BEGIN:VCALENDAR
VERSION:2.0
PRODID:-//ChamberMaster//Event Calendar 2.0//EN
METHOD:PUBLISH
X-PUBLISHED-TTL:P3D
REFRESH-INTERVAL:P3D
CALSCALE:GREGORIAN
BEGIN:VEVENT
DTSTART:20251111T190000Z
DTEND:20251111T220000Z
X-MICROSOFT-CDO-ALLDAYEVENT:FALSE
SUMMARY:Elma VFW Veterans Day Celebration & Parade
DESCRIPTION:The Elma VFW is having a celebration and parade to honor our veterans on November 11th. The celebration will begin at 11am at Edward Silas Morton Jr. Park followed by the parade ay 1pm and lunch at the Elma Grange. See the flyer for more details.
X-ALT-DESC;FMTTYPE=text/html:<span style="color: rgb(8\, 8\, 9)\; font-family: &quot\;Segoe UI Historic&quot\;\, &quot\;Segoe UI&quot\;\, Helvetica\, Arial\, sans-serif\; font-size: 15px\; white-space-collapse: preserve\;">The Elma VFW is having a celebration and parade to honor our veterans on November 11th. The celebration will begin at 11am at Edward Silas Morton Jr. Park followed by the parade ay 1pm and lunch at the Elma Grange. See the flyer for more details.</span>
LOCATION:Elma\, WA
UID:e.26.15296
SEQUENCE:3
DTSTAMP:20260423T221745Z
URL:https://chamber.graysharbor.org/events/details/elma-vfw-veterans-day-celebration-parade-15296
END:VEVENT

END:VCALENDAR
