BEGIN:VCALENDAR
VERSION:2.0
PRODID:-//ChamberMaster//Event Calendar 2.0//EN
METHOD:PUBLISH
X-PUBLISHED-TTL:P3D
REFRESH-INTERVAL:P3D
CALSCALE:GREGORIAN
BEGIN:VEVENT
DTSTART:20200118T200000Z
DTEND:20200119T050000Z
X-MICROSOFT-CDO-ALLDAYEVENT:FALSE
SUMMARY:Elma Winter Wine Festival
DESCRIPTION:Wine tastings from dozens of wineries\, food\, live music\, auctions and much more fun at this annual event in Elma!\n\n\n\nThe entertainment kicks off at 1PM with Ericka Corban\, our local Grays Harbor Voice contestant. Backfire Band\, a classic rock with a taste of blues and country\, on stage at 4PM. And at 7PM Petty Feve\, a Tom Petty Tribute Band\, takes the stage!\n\n\n\nVisit the Courtyard area for seating to enjoy your favorite wine and beer!
X-ALT-DESC;FMTTYPE=text/html:<span style="font-size:14px\;"><span style="font-family:arial\;">Wine tastings from dozens of wineries\, food\, live music\, auctions and much more fun at this annual event in Elma!<br />\n<br />\n<span style="caret-color: rgb(29\, 33\, 41)\; color: rgb(29\, 33\, 41)\; white-space: pre-wrap\;">The entertainment kicks off at 1PM with </span><a href="https://www.facebook.com/erickacorbanmusic/" style="color: rgb(56\, 88\, 152)\; cursor: pointer\; text-decoration: none\; font-family: system-ui\, -apple-system\, BlinkMacSystemFont\, &quot\;.SFNSText-Regular&quot\;\, sans-serif\; font-size: 14px\; white-space: pre-wrap\;" target="_blank">Ericka Corban</a><span style="caret-color: rgb(29\, 33\, 41)\; color: rgb(29\, 33\, 41)\; white-space: pre-wrap\;">\, our local Grays Harbor Voice contestant. </span><a href="https://www.facebook.com/backfireband/" style="color: rgb(56\, 88\, 152)\; cursor: pointer\; text-decoration: none\; font-family: system-ui\, -apple-system\, BlinkMacSystemFont\, &quot\;.SFNSText-Regular&quot\;\, sans-serif\; font-size: 14px\; white-space: pre-wrap\;" target="_blank">Backfire Band</a><span style="caret-color: rgb(29\, 33\, 41)\; color: rgb(29\, 33\, 41)\; white-space: pre-wrap\;">\, a classic rock with a taste of blues and country\, on stage at 4PM. And at 7PM </span><a href="https://www.facebook.com/PettyFever/" style="color: rgb(56\, 88\, 152)\; cursor: pointer\; text-decoration: none\; font-family: system-ui\, -apple-system\, BlinkMacSystemFont\, &quot\;.SFNSText-Regular&quot\;\, sans-serif\; font-size: 14px\; white-space: pre-wrap\;" target="_blank">Petty Feve</a><span style="caret-color: rgb(29\, 33\, 41)\; color: rgb(29\, 33\, 41)\; white-space: pre-wrap\;">\, a Tom Petty Tribute Band\, takes the stage!</span><br style="caret-color: rgb(29\, 33\, 41)\; color: rgb(29\, 33\, 41)\; font-family: system-ui\, -apple-system\, BlinkMacSystemFont\, &quot\;.SFNSText-Regular&quot\;\, sans-serif\; font-size: 14px\; white-space: pre-wrap\;" />\n<br style="caret-color: rgb(29\, 33\, 41)\; color: rgb(29\, 33\, 41)\; font-family: system-ui\, -apple-system\, BlinkMacSystemFont\, &quot\;.SFNSText-Regular&quot\;\, sans-serif\; font-size: 14px\; white-space: pre-wrap\;" />\n<span style="caret-color: rgb(29\, 33\, 41)\; color: rgb(29\, 33\, 41)\; white-space: pre-wrap\;">Visit the Courtyard area for seating to enjoy your favorite wine and beer!</span></span></span>
LOCATION:Grays Harbor Fairgrounds 32 Elma McCleary Rd. Elma\, WA
UID:e.26.12325
SEQUENCE:3
DTSTAMP:20260424T042343Z
URL:https://chamber.graysharbor.org/events/details/elma-winter-wine-festival-12325
END:VEVENT

END:VCALENDAR
