BEGIN:VCALENDAR
VERSION:2.0
PRODID:-//ChamberMaster//Event Calendar 2.0//EN
METHOD:PUBLISH
X-PUBLISHED-TTL:P3D
REFRESH-INTERVAL:P3D
CALSCALE:GREGORIAN
BEGIN:VEVENT
DTSTART:20190329T063000Z
DTEND:20190328T200000Z
X-MICROSOFT-CDO-ALLDAYEVENT:FALSE
SUMMARY:Emergency Planning for Businesses and Non-Profits
DESCRIPTION:Description: Does your organization have an Emergency Preparedness plan? Are you aware of the federal and local resources available to you pre and post disaster? Please join us for lunch at Greater Grays Harbor\, Inc and hear from two great speakers.\n\nGrays Harbor County Deputy Director of Emergency Management Hannah Cleverly will provide an update on the county's recent emergency preparedness efforts\, followed by a presentation from Randall Lowell\, Executive Director of Seattle-based Greenfield Institute.\n\nRandall will cover:\n\n1. Federal & local resources (including funding) for disaster preparedness and recovery\n\n2. Steps you can take to prepare your household and workplace \n\n3. How to develop a Business Emergency Preparedness plan\n\n4. Common pitfalls that prevent organizations from accessing post-disaster services\n\n5. "Hidden Money" sources that may be available post-disaster\n\nSpace is limited. Please RSVP to Grant Jones - gjones@graysharbor.org. \n\nQuestions? Contact Grant Jones @ 360-532-7888 or gjones@graysharbor.org.
X-ALT-DESC;FMTTYPE=text/html:<p style="margin: 0px 0px 1em\; padding: 0px\; border: 0px\; outline: 0px\; font-size: 1.3em\; vertical-align: baseline\; background-color: transparent\; line-height: 1.5em\; caret-color: rgb(69\, 69\, 69)\; color: rgb(69\, 69\, 69)\; font-family: OpenSansRegular\, Arial\, sans-serif\;">Description: Does your organization have an Emergency Preparedness plan? Are you aware of the federal and local resources available to you pre and post disaster? Please join us for lunch at Greater Grays Harbor\, Inc and hear from two great speakers.</p>\n\n<p style="margin: 0px 0px 1em\; padding: 0px\; border: 0px\; outline: 0px\; font-size: 1.3em\; vertical-align: baseline\; background-color: transparent\; line-height: 1.5em\; caret-color: rgb(69\, 69\, 69)\; color: rgb(69\, 69\, 69)\; font-family: OpenSansRegular\, Arial\, sans-serif\;">Grays Harbor County Deputy Director of Emergency Management Hannah Cleverly will provide an update on the county&rsquo\;s recent emergency preparedness efforts\, followed by a presentation from Randall Lowell\, Executive Director of Seattle-based Greenfield Institute.</p>\n\n<p style="margin: 0px 0px 1em\; padding: 0px\; border: 0px\; outline: 0px\; font-size: 1.3em\; vertical-align: baseline\; background-color: transparent\; line-height: 1.5em\; caret-color: rgb(69\, 69\, 69)\; color: rgb(69\, 69\, 69)\; font-family: OpenSansRegular\, Arial\, sans-serif\;">Randall will cover:<br />\n1. Federal &amp\; local resources (including funding) for disaster preparedness and recovery<br />\n2. Steps you can take to prepare your household and workplace&nbsp\;<br />\n3. How to develop a Business Emergency Preparedness plan<br />\n4. Common pitfalls that prevent organizations from accessing post-disaster services<br />\n5. &ldquo\;Hidden Money&rdquo\; sources that may be available post-disaster</p>\n\n<p style="margin: 0px 0px 1em\; padding: 0px\; border: 0px\; outline: 0px\; font-size: 1.3em\; vertical-align: baseline\; background-color: transparent\; line-height: 1.5em\; caret-color: rgb(69\, 69\, 69)\; color: rgb(69\, 69\, 69)\; font-family: OpenSansRegular\, Arial\, sans-serif\;">Space is limited. Please RSVP to Grant Jones -<a href="mailto:gjones@graysharbor.org" style="margin: 0px\; padding: 0px\; border: 0px\; outline: 0px\; font-size: 13px\; vertical-align: baseline\; background-color: transparent\; font-family: OpenSansSemibold\, Arial\, sans-serif\; color: rgb(0\, 85\, 0)\; text-decoration: none\; font-weight: bold\;">&nbsp\;gjones@graysharbor.org</a>.&nbsp\;<br />\nQuestions? Contact Grant Jones @ 360-532-7888 or&nbsp\;<a href="mailto:gjones@graysharbor.org" style="margin: 0px\; padding: 0px\; border: 0px\; outline: 0px\; font-size: 13px\; vertical-align: baseline\; background-color: transparent\; font-family: OpenSansSemibold\, Arial\, sans-serif\; color: rgb(0\, 85\, 0)\; text-decoration: none\; font-weight: bold\;">gjones@graysharbor.org</a>.</p>\n
LOCATION:Greater Grays Harbor\, Inc. 506 Duffy St. Aberdeen\, WA
UID:e.26.11789
SEQUENCE:3
DTSTAMP:20260424T163638Z
URL:https://chamber.graysharbor.org/events/details/emergency-planning-for-businesses-and-non-profits-11789
END:VEVENT

END:VCALENDAR
