BEGIN:VCALENDAR
VERSION:2.0
PRODID:-//ChamberMaster//Event Calendar 2.0//EN
METHOD:PUBLISH
X-PUBLISHED-TTL:P3D
REFRESH-INTERVAL:P3D
CALSCALE:GREGORIAN
BEGIN:VEVENT
DTSTART:20190826T180000Z
DTEND:20190826T200000Z
X-MICROSOFT-CDO-ALLDAYEVENT:FALSE
SUMMARY:Employment Match Monday
DESCRIPTION:Meet a company representative to learn about the many job opportunities with employers in Grays Harbor. Information on available positions will be presented. Bring your resume and dress for success!
X-ALT-DESC;FMTTYPE=text/html:Meet a company representative to learn about the many job opportunities with employers in Grays Harbor. Information on available positions will be presented. Bring your resume and dress for success!
LOCATION:WorkSource Grays Harbor 415 W Wishkah St. Suite 2D Aberdeen\, WA
UID:e.26.12145
SEQUENCE:3
DTSTAMP:20260424T090101Z
URL:https://chamber.graysharbor.org/events/details/employment-match-monday-12145
END:VEVENT

END:VCALENDAR
