BEGIN:VCALENDAR
VERSION:2.0
PRODID:-//ChamberMaster//Event Calendar 2.0//EN
METHOD:PUBLISH
X-PUBLISHED-TTL:P3D
REFRESH-INTERVAL:P3D
CALSCALE:GREGORIAN
BEGIN:VEVENT
DTSTART:20190415T220000Z
DTEND:20190416T020000Z
X-MICROSOFT-CDO-ALLDAYEVENT:FALSE
SUMMARY:Empty Bowls
DESCRIPTION:Empty Bowls comes to Grays Harbor! An international\, grassroots\, creative campaign to end hunger - this years event celebrates the one year anniversary of Harbor Landing\, the food pantry at Grays Harbor College. Potters from all over Grays Harbor will be showcasing their bowls\, in conjunction with bowls decorated by Grays Harbor College Students.
X-ALT-DESC;FMTTYPE=text/html:Empty Bowls comes to Grays Harbor! An international\, grassroots\, creative campaign to end hunger - this years event celebrates the one year anniversary of Harbor Landing\, the food pantry at Grays Harbor College. Potters from all over Grays Harbor will be showcasing their bowls\, in conjunction with bowls decorated by Grays Harbor College Students.
LOCATION:Grays Harbor College HUB 1620 Edward P Smith Dr
UID:e.26.11913
SEQUENCE:3
DTSTAMP:20260424T150744Z
URL:https://chamber.graysharbor.org/events/details/empty-bowls-11913
END:VEVENT

END:VCALENDAR
