BEGIN:VCALENDAR
VERSION:2.0
PRODID:-//ChamberMaster//Event Calendar 2.0//EN
METHOD:PUBLISH
X-PUBLISHED-TTL:P3D
REFRESH-INTERVAL:P3D
CALSCALE:GREGORIAN
BEGIN:VEVENT
DTSTART:20170826T160000Z
DTEND:20170827T020000Z
X-MICROSOFT-CDO-ALLDAYEVENT:FALSE
SUMMARY:End of Summer Music Festival and Market
DESCRIPTION:Come downtown Montesano and enjoy the last Saturday Morning Market of 2017! Lots of vendors will be here. Guess what.... the Market is expanding that day with a music festival to end our summer. The Full Monte Music Festival will continue our fun from 3 to 7pm on Saturday August 26th. The afternoon will have the Market vendors plus food vendors \, tree presentations and amazing musicians! You don't want to miss out on all the fun in Montesano on August 26th! Want to be a vendor? Contact me Angie Brown and we can make that happen for $5!\n\n\n\n	Community
X-ALT-DESC;FMTTYPE=text/html:<div class="_2qgs" style="color: rgb(75\, 79\, 86)\; padding: 12px\; position: relative\; border-top: none\; font-family: Helvetica\, Arial\, sans-serif\; font-size: 12px\;"><span class="_4n-j _3cht fsl" data-testid="event-permalink-details" style="font-size: 14px\; font-family: inherit\;">Come downtown Montesano and enjoy the last Saturday Morning Market of 2017! Lots of vendors will be here. Guess what.... the Market is expanding that day with a music festival to end our summer. The Full Monte Music Festival will continue our fun from 3 to 7pm on Saturday August 26th. The afternoon will have the Market vendors plus food vendors \, tree presentations and amazing musicians! You don&#39\;t want to miss out on all the fun in Montesano on August 26th! Want to be a vendor? Contact me Angie Brown and we can make that happen for $5!</span></div>\n\n<div class="_1r51" style="line-height: 24px\; margin: 4px 12px 12px\; min-height: 24px\; font-family: Helvetica\, Arial\, sans-serif\; color: rgb(29\, 33\, 41)\; font-size: 12px\;">\n<ul class="uiList uiCollapsedList uiCollapsedListHidden _509- _4ki" id="u_jsonp_17_n" style="list-style-type: none\; margin: 0px\; padding: 0px\;">\n	<li style="border-width: 0px\; display: inline-block\; vertical-align: top\;"><a href="https://www.facebook.com/events/discovery/?acontext=%7B%22ref%22%3A44%2C%22unit_ref%22%3A%22related_events%22%2C%22source%22%3A1%2C%22action_history%22%3A%22%5B%7B%5C%22surface%5C%22%3A%5C%22permalink%5C%22%2C%5C%22mechanism%5C%22%3A%5C%22RHC%5C%22%2C%5C%22extra_data%5C%22%3A%5B%5D%7D%2C%7B%5C%22surface%5C%22%3A%5C%22permalink%5C%22%2C%5C%22mechanism%5C%22%3A%5C%22surface%5C%22%2C%5C%22extra_data%5C%22%3A%5B%5D%7D%2C%7B%5C%22surface%5C%22%3A%5C%22permalink%5C%22%2C%5C%22mechanism%5C%22%3A%5C%22event_information%5C%22%2C%5C%22extra_data%5C%22%3A%7B%5C%22tag%5C%22%3A%5C%22Community%5C%22%7D%7D%5D%22%2C%22has_source%22%3Atrue%7D&amp\;suggestion_token=%7B%22event_categories%22%3A%5B550847771764075%5D%7D" style="color: rgb(54\, 88\, 153)\; cursor: pointer\; text-decoration-line: none\; font-family: inherit\;"><span class="_47od" style="background-color: rgb(237\, 242\, 250)\; border-radius: 2px\; color: rgb(32\, 55\, 95)\; display: block\; height: 14px\; line-height: 14px\; margin: 0px 4px 4px 0px\; padding: 4px 6px\; position: relative\; font-family: inherit\;">Community</span></a></li>\n</ul>\n</div>\n
LOCATION:Fleet Park 200 Block of Pioneer Ave W Montesano\, WA 98563
UID:e.26.8174
SEQUENCE:3
DTSTAMP:20260425T230826Z
URL:https://chamber.graysharbor.org/events/details/end-of-summer-music-festival-and-market-8174
END:VEVENT

END:VCALENDAR
