BEGIN:VCALENDAR
VERSION:2.0
PRODID:-//ChamberMaster//Event Calendar 2.0//EN
METHOD:PUBLISH
X-PUBLISHED-TTL:P3D
REFRESH-INTERVAL:P3D
CALSCALE:GREGORIAN
BEGIN:VEVENT
DTSTART:20190831T030000Z
DTEND:20190831T050000Z
X-MICROSOFT-CDO-ALLDAYEVENT:FALSE
SUMMARY:End of the World - Friday Night Music
DESCRIPTION:Check out End of the World\, live Friday night music at the Mount Olympus Brewing Co. taproom August 30th! Grab your friends and enjoy some locally crafted beer and fantastic music.
X-ALT-DESC;FMTTYPE=text/html:<span style="caret-color: rgb(29\, 33\, 41)\; color: rgb(29\, 33\, 41)\; font-family: arial\; white-space: pre-wrap\; background-color: rgb(255\, 255\, 255)\;">Check out End of the World\, live Friday night music at the Mount Olympus Brewing Co. taproom August 30th! Grab your friends and enjoy some locally crafted beer and fantastic music. </span>
LOCATION:pin Mount Olympus Brewing Company 105 W HERON ST\, Aberdeen\, Washington 98520
UID:e.26.12160
SEQUENCE:3
DTSTAMP:20260424T104622Z
URL:https://chamber.graysharbor.org/events/details/end-of-the-world-friday-night-music-12160
END:VEVENT

END:VCALENDAR
