BEGIN:VCALENDAR
VERSION:2.0
PRODID:-//ChamberMaster//Event Calendar 2.0//EN
METHOD:PUBLISH
X-PUBLISHED-TTL:P3D
REFRESH-INTERVAL:P3D
CALSCALE:GREGORIAN
BEGIN:VEVENT
DTSTART:20201211T023000Z
DTEND:20201211T033000Z
X-MICROSOFT-CDO-ALLDAYEVENT:FALSE
SUMMARY:Enterprise for Equity 20th Anniversary Fundraising Virtual Gala: Stories of Resilience
DESCRIPTION:Enterprise for Equity believes in the power of business ownership for people with limited incomes to change lives\, grow futures and build economies! Attend our virtual 20th Anniversary Fundraising Gala to support individuals starting and growing small businesses in nine counties in Western Washington. Financial well-being is at the heart of E4E's financial education and strength-based workshops\, business training programs\, business coaching and microloan fund in Grays Harbor and beyond. The event is Thursday\, December 10 and streaming begins at 6:30 Our online auction featuring services\, products and goods from E4E Graduates opens on December 4th.\n\n\n\nRegistration is FREE and we'll send the viewing details to you as we get closer to the event.
X-ALT-DESC;FMTTYPE=text/html:<span style="font-size:14px\;">Enterprise for Equity believes in the power of business ownership for people with limited incomes to change lives\, grow futures and build economies! Attend our virtual 20th Anniversary Fundraising Gala to support individuals starting and growing small businesses in nine counties in Western Washington. Financial well-being is at the heart of E4E&rsquo\;s financial education and strength-based workshops\, business training programs\, business coaching and microloan fund in Grays Harbor and beyond. The event is Thursday\, December 10 and streaming begins at 6:30 Our online auction featuring services\, products and goods from E4E Graduates opens on December 4th.<br />\n<br />\nRegistration is FREE and we&rsquo\;ll send the viewing details to you as we get closer to the event.</span>
LOCATION:Virtual
UID:e.26.12545
SEQUENCE:3
DTSTAMP:20260424T042402Z
URL:https://chamber.graysharbor.org/events/details/enterprise-for-equity-20th-anniversary-fundraising-virtual-gala-stories-of-resilience-12545
END:VEVENT

END:VCALENDAR
