BEGIN:VCALENDAR
VERSION:2.0
PRODID:-//ChamberMaster//Event Calendar 2.0//EN
METHOD:PUBLISH
X-PUBLISHED-TTL:P3D
REFRESH-INTERVAL:P3D
CALSCALE:GREGORIAN
BEGIN:VEVENT
DTSTART:20180329T010000Z
DTEND:20180329T040000Z
X-MICROSOFT-CDO-ALLDAYEVENT:FALSE
SUMMARY:Evening with Ryan Patrick Winery
DESCRIPTION:A fantastic evening with Washington's own Ryan Patrick Winery! Our chef's are working on a four course pairing menu to go along with these unbelievable wines! A representative from the winery will be here to answer all of your questions and chat. Four full courses of wine and dinner for only $50 a person.
X-ALT-DESC;FMTTYPE=text/html:<span style="color: rgb(75\, 79\, 86)\; font-family: Helvetica\, Arial\, sans-serif\; font-size: 14px\; background-color: rgb(255\, 255\, 255)\;">A fantastic evening with Washington&#39\;s own Ryan Patrick Winery! Our chef&#39\;s are working on a four course pairing menu to go along with these unbelievable wines! A representative from the winery will be here to answer all of your questions and chat. Four full courses of wine and dinner for only $50 a person.</span>
LOCATION:Ocean Beach Roasters & Bistro 841 Point Brown Ave NW Ocean Shores
UID:e.26.10573
SEQUENCE:3
DTSTAMP:20260425T113139Z
URL:https://chamber.graysharbor.org/events/details/evening-with-ryan-patrick-winery-10573
END:VEVENT

END:VCALENDAR
