BEGIN:VCALENDAR
VERSION:2.0
PRODID:-//ChamberMaster//Event Calendar 2.0//EN
METHOD:PUBLISH
X-PUBLISHED-TTL:P3D
REFRESH-INTERVAL:P3D
CALSCALE:GREGORIAN
BEGIN:VEVENT
DTSTART:20190913T143000Z
DTEND:20190914T000000Z
X-MICROSOFT-CDO-ALLDAYEVENT:FALSE
SUMMARY:"Everyday Heroes" 10th Annual Nonprofit Leaders Conference
DESCRIPTION:Everyday Heroes 10th Annual Nonprofit Leaders Conference Friday September 13\, 2019 @ 7:30 am\n\nDo you volunteer or work for a nonprofit? If you do\, Join us for the 10th annual Nonprofit Leaders Conference on September 13th in Aberdeen. This full day of skill building workshops and networking will give you practical tools and inspiration. Learn more and register at nonprofitleaders.info Registration is just $30 and includes lunch and free professional headshots--bring your whole team! Register today!
X-ALT-DESC;FMTTYPE=text/html:<span style="font-size:14px\;">Everyday Heroes 10th Annual Nonprofit Leaders Conference Friday September 13\, 2019 @ 7:30 am<br />\nDo you volunteer or work for a nonprofit? If you do\, Join us for the 10th annual Nonprofit Leaders Conference on September 13th in Aberdeen. This full day of skill building workshops and networking will give you practical tools and inspiration. Learn more and register at nonprofitleaders.info Registration is just $30 and includes lunch and free professional headshots--bring your whole team! Register today!</span>
LOCATION:Grays Harbor College 1620 Edward P. Smith Dr. Aberdeen\, WA 98520
UID:e.26.12054
SEQUENCE:3
DTSTAMP:20260424T074219Z
URL:https://chamber.graysharbor.org/events/details/everyday-heroes-10th-annual-nonprofit-leaders-conference-12054
END:VEVENT

END:VCALENDAR
