BEGIN:VCALENDAR
VERSION:2.0
PRODID:-//ChamberMaster//Event Calendar 2.0//EN
METHOD:PUBLISH
X-PUBLISHED-TTL:P3D
REFRESH-INTERVAL:P3D
CALSCALE:GREGORIAN
BEGIN:VEVENT
DTSTART:20121118T033000Z
DTEND:20121209T200000Z
X-MICROSOFT-CDO-ALLDAYEVENT:FALSE
SUMMARY:Excursion Fare
DESCRIPTION:Written by Dennis Smith\n\nDirected by Dave Lund\n\nA comedy/drama in two acts.\n\nSuggested for teens and older.\n\n\n\nWinner of the 17th Annual American College Theatre Festival\, this play shows a way station to eternity that houses people whose bodies have never been found. With Amelia Earhart\, Michael Rockefeller\, Ambrose Bierce and Jimmy hoffa are a young man whose car came caromed down a mountain and a girl who jumped from the Golden Gate Bridge. All have some hope for what is yet to come\, even those who abandoned all hope entering here. There are games and contests\, some comic\, some deadly serious\, including the last one which determines why they fear facing their destinies in eternity.
X-ALT-DESC;FMTTYPE=text/html:Written by Dennis Smith<br />\nDirected by Dave Lund<br />\nA comedy/drama in two acts.<br />\nSuggested for teens and older.<br />\n<br />\nWinner of the 17th Annual American College Theatre Festival\, this play shows a way station to eternity that houses people whose bodies have never been found. With Amelia Earhart\, Michael Rockefeller\, Ambrose Bierce and Jimmy hoffa are a young man whose car came caromed down a mountain and a girl who jumped from the Golden Gate Bridge. All have some hope for what is yet to come\, even those who abandoned all hope entering here. There are games and contests\, some comic\, some deadly serious\, including the last one which determines why they fear facing their destinies in eternity.
LOCATION:Driftwood Players 120 East 3rd Street Aberdeen\, WA
UID:e.26.2475
SEQUENCE:3
DTSTAMP:20260424T223935Z
URL:https://chamber.graysharbor.org/events/details/excursion-fare-11-17-2012-2475
END:VEVENT

END:VCALENDAR
