BEGIN:VCALENDAR
VERSION:2.0
PRODID:-//ChamberMaster//Event Calendar 2.0//EN
METHOD:PUBLISH
X-PUBLISHED-TTL:P3D
REFRESH-INTERVAL:P3D
CALSCALE:GREGORIAN
BEGIN:VEVENT
DTSTART:20200717T160000Z
DTEND:20200717T170000Z
X-MICROSOFT-CDO-ALLDAYEVENT:FALSE
SUMMARY:Expanding Your Marketing During COVID
DESCRIPTION:Meet your local PTAC and SBDC representatives as you learn some ideas on expanding your marketing reach in this new COVID world.\n\nWe will cover:\n\n\n	How to sell to government agencies\n	Moving your efforts to the on-line environment\n	General marketing ideas\n\n\nThis discussion style meeting will allow for Q & A. If you have a particular concern\, please send your thoughts to: khoy@thurstonedc.com prior to the event.\n\nAlthough anyone can attend\, the resource partners you will meet will  be from the counties of Grays Harbor\, Mason\, and Pacific.
X-ALT-DESC;FMTTYPE=text/html:<p style="font-size: 16px\; margin-top: 0px\; margin-bottom: 10px\; line-height: 23.200000762939453px\; caret-color: rgb(0\, 0\, 0)\; color: rgb(0\, 0\, 0)\; font-family: Lato\, Arial\, Helvetica\, sans-serif\;"><span style="font-family:arial\;">Meet your local&nbsp\;<a href="https://washingtonptac.org/" style="color: rgb(45\, 119\, 179)\; text-decoration: none\;" target="_blank">PTAC</a>&nbsp\;and&nbsp\;<a href="https://wsbdc.org/" style="color: rgb(45\, 119\, 179)\; text-decoration: none\;" target="_blank">SBDC</a>&nbsp\;representatives as you learn some ideas on expanding your marketing reach in this new COVID world.</span></p>\n\n<p style="font-size: 16px\; margin-top: 0px\; margin-bottom: 10px\; line-height: 23.200000762939453px\; caret-color: rgb(0\, 0\, 0)\; color: rgb(0\, 0\, 0)\; font-family: Lato\, Arial\, Helvetica\, sans-serif\;"><span style="font-family:arial\;">We will cover:</span></p>\n\n<ul style="font-size: 16px\; margin-top: 3px\; caret-color: rgb(0\, 0\, 0)\; color: rgb(0\, 0\, 0)\; font-family: Lato\, Arial\, Helvetica\, sans-serif\;">\n	<li style="margin-top: 0px\; margin-left: 0px\; line-height: 25.600000381469727px\;"><span style="font-family:arial\;">How to sell to government agencies</span></li>\n	<li style="margin-top: 0px\; margin-left: 0px\; line-height: 25.600000381469727px\;"><span style="font-family:arial\;">Moving your efforts to the on-line environment</span></li>\n	<li style="margin-top: 0px\; margin-left: 0px\; line-height: 25.600000381469727px\;"><span style="font-family:arial\;">General marketing ideas</span></li>\n</ul>\n\n<p style="font-size: 16px\; margin-top: 0px\; margin-bottom: 10px\; line-height: 23.200000762939453px\; caret-color: rgb(0\, 0\, 0)\; color: rgb(0\, 0\, 0)\; font-family: Lato\, Arial\, Helvetica\, sans-serif\;"><span style="font-family:arial\;">This discussion style meeting will allow for Q &amp\; A. If you have a particular concern\, please send your thoughts to:&nbsp\;<a href="mailto:khoy@thurstonedc.com" style="color: rgb(45\, 119\, 179)\; text-decoration: none\;">khoy@thurstonedc.com</a>&nbsp\;prior to the event.<br />\n<strong style="font-size: 16px\; caret-color: rgb(0\, 0\, 0)\; color: rgb(0\, 0\, 0)\; font-family: Lato\, Arial\, Helvetica\, sans-serif\;">Although anyone can attend\, the resource partners you will meet will&nbsp\; be from&nbsp\;the counties of Grays Harbor\, Mason\, and Pacific.&nbsp\;</strong></span></p>\n
LOCATION:Online
UID:e.26.12481
SEQUENCE:3
DTSTAMP:20260424T120704Z
URL:https://chamber.graysharbor.org/events/details/expanding-your-marketing-during-covid-12481
END:VEVENT

END:VCALENDAR
