BEGIN:VCALENDAR
VERSION:2.0
PRODID:-//ChamberMaster//Event Calendar 2.0//EN
METHOD:PUBLISH
X-PUBLISHED-TTL:P3D
REFRESH-INTERVAL:P3D
CALSCALE:GREGORIAN
BEGIN:VEVENT
DTSTART;VALUE=DATE:20200128
DTEND;VALUE=DATE:20200130
TRANSP:TRANSPARENT
X-MICROSOFT-CDO-ALLDAYEVENT:TRUE
SUMMARY:Express Bus Service Between Aberdeen & Olympia Commuter Study
DESCRIPTION:Your input is needed on faster bus connections between Olympia and Elma/Aberdeen! Grays Harbor Transit welcomes your feedback at one of two community open houses. \n\n \nSurveys are available for those unable to attend:\n\nEnglish Survey\n\nSpanish Survey\n\nFor more information about the Commuter Study\, click here
X-ALT-DESC;FMTTYPE=text/html:<span style="font-size:14px\;"><span style="font-family:arial\;"><span style="caret-color: rgb(34\, 34\, 34)\; color: rgb(34\, 34\, 34)\; background-color: rgb(255\, 255\, 255)\;">Your input is needed on faster bus connections between Olympia and Elma/Aberdeen! Grays Harbor Transit welcomes your feedback at one of two community open houses.&nbsp\;</span></span></span><br />\n&nbsp\;\n<p style="margin: 0px 0px 8px\; padding: 0px\; border: 0px\; font-family: Arial\, Helvetica\, sans-serif\; font-size: 13px\; font-stretch: inherit\; line-height: inherit\; vertical-align: baseline\; caret-color: rgb(115\, 115\, 115)\; color: rgb(115\, 115\, 115)\; text-align: center\;"><span style="font-size:14px\;"><span style="margin: 0px\; padding: 0px\; border: 0px\; font-style: inherit\; font-variant-caps: inherit\; font-stretch: inherit\; line-height: inherit\; vertical-align: baseline\;"><span style="margin: 0px\; padding: 0px\; border: 0px\; font-style: inherit\; font-variant-caps: inherit\; font-stretch: inherit\; line-height: inherit\; vertical-align: baseline\; color: rgb(0\, 0\, 0)\;"><strong style="margin: 0px\; padding: 0px\; border: 0px\; font-family: inherit\; font-size: inherit\; font-style: inherit\; font-variant-caps: inherit\; font-stretch: inherit\; line-height: inherit\; vertical-align: baseline\;">Surveys are available for those unable to attend:</strong></span></span><br />\n<strong style="margin: 0px\; padding: 0px\; border: 0px\; font-family: inherit\; font-size: inherit\; font-style: inherit\; font-variant-caps: inherit\; font-stretch: inherit\; line-height: inherit\; vertical-align: baseline\;"><span style="margin: 0px\; padding: 0px\; border: 0px\; font-style: inherit\; font-variant-caps: inherit\; font-weight: inherit\; font-stretch: inherit\; line-height: inherit\; vertical-align: baseline\;"><a href="https://www.surveymonkey.com/r/WYPJ2KS" style="margin: 0px\; padding: 0px\; border: 0px\; font-family: inherit\; font-size: inherit\; font-style: inherit\; font-variant-caps: inherit\; font-weight: inherit\; font-stretch: inherit\; line-height: inherit\; vertical-align: baseline\; color: rgb(80\, 185\, 63)\; text-decoration: none\; outline: 0px\;" target="_blank">English Survey</a><br />\n<a href="https://es.surveymonkey.com/r/LT6Q9YT" style="margin: 0px\; padding: 0px\; border: 0px\; font-family: inherit\; font-size: inherit\; font-style: inherit\; font-variant-caps: inherit\; font-weight: inherit\; font-stretch: inherit\; line-height: inherit\; vertical-align: baseline\; color: rgb(80\, 185\, 63)\; text-decoration: none\; outline: 0px\;" target="_blank">Spanish Survey</a></span></strong></span></p>\n\n<p style="margin: 0px 0px 8px\; padding: 0px\; border: 0px\; font-family: Arial\, Helvetica\, sans-serif\; font-size: 13px\; font-stretch: inherit\; line-height: inherit\; vertical-align: baseline\; caret-color: rgb(115\, 115\, 115)\; color: rgb(115\, 115\, 115)\; text-align: center\;"><span style="font-size:14px\;"><span style="margin: 0px\; padding: 0px\; border: 0px\; font-style: inherit\; font-variant-caps: inherit\; font-stretch: inherit\; line-height: inherit\; vertical-align: baseline\;"><span style="margin: 0px\; padding: 0px\; border: 0px\; font-style: inherit\; font-variant-caps: inherit\; font-stretch: inherit\; line-height: inherit\; vertical-align: baseline\; color: rgb(0\, 0\, 0)\;"><strong style="margin: 0px\; padding: 0px\; border: 0px\; font-family: inherit\; font-size: inherit\; font-style: inherit\; font-variant-caps: inherit\; font-stretch: inherit\; line-height: inherit\; vertical-align: baseline\;">For more information about the Commuter Study</strong></span><strong style="margin: 0px\; padding: 0px\; border: 0px\; font-family: inherit\; font-size: inherit\; font-style: inherit\; font-variant-caps: inherit\; font-stretch: inherit\; line-height: inherit\; vertical-align: baseline\;">\,&nbsp\;<a href="http://ghtransit.com/Portals/40/Docs/2020%20Docs/Grays%20Harbor%20Transit%20Commuter%20Study%20press%20release%20-%201.9.2020.pdf" style="margin: 0px\; padding: 0px\; border: 0px\; font-family: inherit\; font-size: inherit\; font-style: inherit\; font-variant-caps: inherit\; font-weight: inherit\; font-stretch: inherit\; line-height: inherit\; vertical-align: baseline\; color: rgb(80\, 185\, 63)\; text-decoration: none\; outline: 0px\;" target="_blank">click here</a></strong></span></span></p>\n
LOCATION:Tuesday\, January 28\, 5:30-6:45 pm Aberdeen Timberland Library Rosalie N. Spellman Meeting Room 121 E. Market Street\, Aberdeen\, WA Wednesday\, January 29\, 4:30-6:30 pm Elma Timberland Library Public Meeting Room 118 N. 1st Street\, Elma\, WA
UID:e.26.12363
SEQUENCE:3
DTSTAMP:20260424T041944Z
URL:https://chamber.graysharbor.org/events/details/express-bus-service-between-aberdeen-olympia-commuter-study-12363
END:VEVENT

END:VCALENDAR
