BEGIN:VCALENDAR
VERSION:2.0
PRODID:-//ChamberMaster//Event Calendar 2.0//EN
METHOD:PUBLISH
X-PUBLISHED-TTL:P3D
REFRESH-INTERVAL:P3D
CALSCALE:GREGORIAN
BEGIN:VEVENT
DTSTART:20190701T190000Z
DTEND:20190701T200000Z
X-MICROSOFT-CDO-ALLDAYEVENT:FALSE
SUMMARY:Extreme Fun Center Expansion Ribbon Cutting
DESCRIPTION:GGHI will be hosting a ribbon cutting for the Extreme Fun Center's recent expansion on Monday\, July 1 at noon. They're located inside the Shoppes at Riverside across from the movie theater! We'd love for you to come join us and check out all of their fun new expansions.
X-ALT-DESC;FMTTYPE=text/html:<span style="caret-color: rgb(34\, 34\, 34)\; color: rgb(34\, 34\, 34)\; font-family: Arial\, Helvetica\, sans-serif\; font-size: small\;">GGHI will be hosting a ribbon cutting for the Extreme Fun Center&#39\;s recent expansion on Monday\, July 1 at noon. They&#39\;re located inside the Shoppes at Riverside across from the movie theater! We&#39\;d love for you to come join us and check out all of their fun new expansions.&nbsp\;</span>
LOCATION:Extreme Fun Center inside the Shoppes at Riverside (1017 S Boone St.) Ste. 300 Aberdeen\, WA
UID:e.26.12055
SEQUENCE:3
DTSTAMP:20260424T104438Z
URL:https://chamber.graysharbor.org/events/details/extreme-fun-center-expansion-ribbon-cutting-12055
END:VEVENT

END:VCALENDAR
