BEGIN:VCALENDAR
VERSION:2.0
PRODID:-//ChamberMaster//Event Calendar 2.0//EN
METHOD:PUBLISH
X-PUBLISHED-TTL:P3D
REFRESH-INTERVAL:P3D
CALSCALE:GREGORIAN
BEGIN:VEVENT
DTSTART;VALUE=DATE:20190821
DTEND;VALUE=DATE:20190901
TRANSP:TRANSPARENT
X-MICROSOFT-CDO-ALLDAYEVENT:TRUE
SUMMARY:Extreme Fun Center - STUFF THE TRUCK
DESCRIPTION:EXTREME FUN CENTER - STUFF THE TRUCK\n\nThrough August 31\, 2019\n\nHelp us STUFF the truck with school supplies to help our local schools.\n\nDonate 5 school supply items\, receive a $5 Game Card!\n\nDonate a Backpack\, Receive a $10 Game Card!  School's really need backpacks!!!
X-ALT-DESC;FMTTYPE=text/html:<strong>EXTREME FUN CENTER - STUFF THE TRUCK</strong><br />\n<em>Through August 31\, 2019</em><br />\nHelp us STUFF the truck with school supplies to help our local schools.<br />\nDonate 5 school supply items\, receive a $5 Game Card!<br />\n<strong>Donate a Backpack\, Receive a $10 Game Card!&nbsp\; S<u>chool&#39\;s really need backpacks!!!</u></strong>
LOCATION:
UID:e.26.12176
SEQUENCE:3
DTSTAMP:20260424T104441Z
URL:https://chamber.graysharbor.org/events/details/extreme-fun-center-stuff-the-truck-12176
END:VEVENT

END:VCALENDAR
