BEGIN:VCALENDAR
VERSION:2.0
PRODID:-//ChamberMaster//Event Calendar 2.0//EN
METHOD:PUBLISH
X-PUBLISHED-TTL:P3D
REFRESH-INTERVAL:P3D
CALSCALE:GREGORIAN
BEGIN:VEVENT
DTSTART:20190420T150000Z
DTEND:20190420T180000Z
X-MICROSOFT-CDO-ALLDAYEVENT:FALSE
SUMMARY:Failor Lake Kids Fishing Derby
DESCRIPTION:It's that time of year for the Failor Lake kids-only fishing derby.\n\nFailor Lake will be welcoming anglers earlier than the regular scheduled trout opener once again as children will be allowed to come out a week before the rest of the state.\n\nThe Grays Harbor Poggie Club is hosting the annual fishing derby from 8-11am on April 20\, 2019.\n\nThis derby is for trout and other game fish in Failor Lake only.\n\nThis opener will allow children 14 and younger to get out on the water before the season opener.\n\nFollowing the derby\, Failor Lake will remain closed until the regularly scheduled lowland trout opener on the fourth Saturday in April.\n\nAnglers must have a current Washington fishing license\, appropriate to the fishery.\n\nCheck the WDFW "Fishing in Washington" rules pamphlet for details on definitions and regulations. Fishing rules are subject to change. Check the WDFW Fishing hotline for the latest rule information at (360) 902-2500\, press 2 for recreational rules. For the Shellfish Rule Change hotline call (360)796-3215 or toll free 1-866-880-5431.
X-ALT-DESC;FMTTYPE=text/html:<p style="caret-color: rgb(0\, 0\, 0)\; color: rgb(0\, 0\, 0)\; font-size: 16px\; box-sizing: inherit\; margin: 0px 0px 1.2rem\; padding: 0px\; line-height: 1.63\; text-rendering: optimizeLegibility\; font-family: Roboto\, sans-serif\;"><span style="box-sizing: inherit\;">It&rsquo\;s that time of year for the Failor Lake kids-only fishing derby.</span></p>\n\n<p style="caret-color: rgb(0\, 0\, 0)\; color: rgb(0\, 0\, 0)\; font-size: 16px\; box-sizing: inherit\; margin: 0px 0px 1.2rem\; padding: 0px\; line-height: 1.63\; text-rendering: optimizeLegibility\; font-family: Roboto\, sans-serif\;"><span style="box-sizing: inherit\;">Failor Lake will be welcoming anglers earlier than the regular scheduled trout opener once again as children will be allowed to come out a week before the rest of the state.</span></p>\n\n<p style="caret-color: rgb(0\, 0\, 0)\; color: rgb(0\, 0\, 0)\; font-size: 16px\; box-sizing: inherit\; margin: 0px 0px 1.2rem\; padding: 0px\; line-height: 1.63\; text-rendering: optimizeLegibility\; font-family: Roboto\, sans-serif\;"><span style="box-sizing: inherit\;">The Grays Harbor Poggie Club is hosting the annual fishing derby from 8-11am on April 20\, 2019.</span></p>\n\n<p style="caret-color: rgb(0\, 0\, 0)\; color: rgb(0\, 0\, 0)\; font-size: 16px\; box-sizing: inherit\; margin: 0px 0px 1.2rem\; padding: 0px\; line-height: 1.63\; text-rendering: optimizeLegibility\; font-family: Roboto\, sans-serif\;"><span style="box-sizing: inherit\;">This derby is for trout and other game fish in Failor Lake only.</span></p>\n\n<p style="caret-color: rgb(0\, 0\, 0)\; color: rgb(0\, 0\, 0)\; font-size: 16px\; box-sizing: inherit\; margin: 0px 0px 1.2rem\; padding: 0px\; line-height: 1.63\; text-rendering: optimizeLegibility\; font-family: Roboto\, sans-serif\;"><span style="box-sizing: inherit\;">This opener will allow children 14 and younger to get out on the water before the season opener.</span></p>\n\n<p style="caret-color: rgb(0\, 0\, 0)\; color: rgb(0\, 0\, 0)\; font-size: 16px\; box-sizing: inherit\; margin: 0px 0px 1.2rem\; padding: 0px\; line-height: 1.63\; text-rendering: optimizeLegibility\; font-family: Roboto\, sans-serif\;"><span style="box-sizing: inherit\;">Following the derby\, Failor Lake will remain closed until the regularly scheduled lowland trout opener on the fourth Saturday in April.</span></p>\n\n<p style="caret-color: rgb(0\, 0\, 0)\; color: rgb(0\, 0\, 0)\; font-size: 16px\; box-sizing: inherit\; margin: 0px 0px 1.2rem\; padding: 0px\; line-height: 1.63\; text-rendering: optimizeLegibility\; font-family: Roboto\, sans-serif\;"><span style="box-sizing: inherit\;">Anglers must have a current Washington fishing license\, appropriate to the fishery.</span></p>\n\n<p style="caret-color: rgb(0\, 0\, 0)\; color: rgb(0\, 0\, 0)\; font-size: 16px\; box-sizing: inherit\; margin: 0px 0px 1.2rem\; padding: 0px\; line-height: 1.63\; text-rendering: optimizeLegibility\; font-family: Roboto\, sans-serif\;"><span style="box-sizing: inherit\;">Check the&nbsp\;</span><a href="http://wdfw.wa.gov/fishing/regulations/" style="box-sizing: inherit\; background-color: transparent\; -webkit-text-decoration-skip: objects\; line-height: inherit\; color: rgb(195\, 19\, 26)\; text-decoration: none\; cursor: pointer\;">WDFW &ldquo\;Fishing in Washington&rdquo\; rules pamphlet</a><span style="box-sizing: inherit\;">&nbsp\;for details on definitions and regulations. Fishing rules are subject to change. Check the WDFW Fishing hotline for the latest rule information at (360) 902-2500\, press 2 for recreational rules. For the Shellfish Rule Change hotline call (360)796-3215 or toll free 1-866-880-5431.</span></p>\n
LOCATION:Failor Lake Hoquiam\, WA
UID:e.26.11935
SEQUENCE:3
DTSTAMP:20260424T151453Z
URL:https://chamber.graysharbor.org/events/details/failor-lake-kids-fishing-derby-11935
END:VEVENT

END:VCALENDAR
