BEGIN:VCALENDAR
VERSION:2.0
PRODID:-//ChamberMaster//Event Calendar 2.0//EN
METHOD:PUBLISH
X-PUBLISHED-TTL:P3D
REFRESH-INTERVAL:P3D
CALSCALE:GREGORIAN
BEGIN:VEVENT
DTSTART:20201212T030000Z
DTEND:20201212T043000Z
X-MICROSOFT-CDO-ALLDAYEVENT:FALSE
SUMMARY:Fall Friday's GH Civic Choir & Concert Band
DESCRIPTION:The Grays Harbor Civic Choir\, directed by Kari Hasbrouck\, presents a performance of Christmas music. Small groups of choir member will perform some new and familiar carols for your enjoyment. The Concert Band\, directed by Tiffany Maki\, will feature members in an ensemble setting\, performing a variety of Holiday and Winter selections.
X-ALT-DESC;FMTTYPE=text/html:<span style="caret-color: rgb(5\, 5\, 5)\; color: rgb(5\, 5\, 5)\; font-family: system-ui\, -apple-system\, BlinkMacSystemFont\, &quot\;.SFNSText-Regular&quot\;\, sans-serif\; font-size: 15px\;">The Grays Harbor Civic Choir\, directed by Kari Hasbrouck\, presents a performance of Christmas music. Small groups of choir member will perform some new and familiar carols for your enjoyment. The Concert Band\, directed by Tiffany Maki\, will feature members in an ensemble setting\, performing a variety of Holiday and Winter selections.</span>
LOCATION:Zoom: https://zoom.us/j/98977610177 or call 1-253-215-8782 and enter meeting 98977610177
UID:e.26.12539
SEQUENCE:3
DTSTAMP:20260424T042342Z
URL:https://chamber.graysharbor.org/events/details/fall-friday-s-gh-civic-choir-concert-band-12539
END:VEVENT

END:VCALENDAR
