BEGIN:VCALENDAR
VERSION:2.0
PRODID:-//ChamberMaster//Event Calendar 2.0//EN
METHOD:PUBLISH
X-PUBLISHED-TTL:P3D
REFRESH-INTERVAL:P3D
CALSCALE:GREGORIAN
BEGIN:VEVENT
DTSTART:20181006T170000Z
DTEND:20181006T190000Z
X-MICROSOFT-CDO-ALLDAYEVENT:FALSE
SUMMARY:Fall into Gardening Workshop
DESCRIPTION:Please join us in October when we focus on fall gardening topics such as first frost dates\, ways to extend your harvests (i.e. cold frames\, etc.)\, seed saving\, and cover crops. Free to the public.
X-ALT-DESC;FMTTYPE=text/html:<span style="display: inline !important\; float: none\; background-color: transparent\; color: rgb(29\, 33\, 41)\; font-family: Helvetica\,Arial\,sans-serif\; font-size: 14px\; font-style: normal\; font-variant: normal\; font-weight: 400\; letter-spacing: normal\; orphans: 2\; text-align: left\; text-decoration: none\; text-indent: 0px\; text-transform: none\; -webkit-text-stroke-width: 0px\; white-space: normal\; word-spacing: 0px\;">Please join us in October when we focus on fall gardening topics such as first frost dates\, ways to extend your harvests (i.e. cold frames\, etc.)\, seed saving\, and cover crops. Free to the public.</span>
LOCATION:WSU Extension Office\, Elma Fairgrounds (meeting room across from office) 32 Elma Mcleary Road\, Elma\, WA
UID:e.26.11278
SEQUENCE:3
DTSTAMP:20260425T001815Z
URL:https://chamber.graysharbor.org/events/details/fall-into-gardening-workshop-11278
END:VEVENT

END:VCALENDAR
