BEGIN:VCALENDAR
VERSION:2.0
PRODID:-//ChamberMaster//Event Calendar 2.0//EN
METHOD:PUBLISH
X-PUBLISHED-TTL:P3D
REFRESH-INTERVAL:P3D
CALSCALE:GREGORIAN
BEGIN:VEVENT
DTSTART:20190824T160000Z
DTEND:20190824T230000Z
X-MICROSOFT-CDO-ALLDAYEVENT:FALSE
SUMMARY:Family Forest Field Day
DESCRIPTION:Whether you own a "home in the woods" or many acres of land\, this "out in the woods" educational event is packed with practical "how-to" information that you need to know. Stewarding land is both rewarding and challenging. Successful management is due to the decisions you make and the actions you take. Attending the Family Forest Field Day will prepare you to plan and execute sound practices\, enabling you to accomplish your management objectives\, reduce risks\, and protect your financial investment. Don't own land but are still interested in learning more about forests? Maybe you're thinking about buying some forestland but want to see what you're getting into? All are welcome!
X-ALT-DESC;FMTTYPE=text/html:Whether you own a &ldquo\;home in the woods&rdquo\; or many acres of land\, this &ldquo\;out in the woods&rdquo\; educational event is packed with practical &ldquo\;how-to&rdquo\; information that you need to know. Stewarding land is both rewarding and challenging. Successful management is due to the decisions you make and the actions you take. Attending the Family Forest Field Day will prepare you to plan and execute sound practices\, enabling you to accomplish your management objectives\, reduce risks\, and protect your financial investment. Don&rsquo\;t own land but are still interested in learning more about forests? Maybe you&rsquo\;re thinking about buying some forestland but want to see what you&rsquo\;re getting into? All are welcome!
LOCATION:72 Tornquist Rd. McCleary\, WA 98557
UID:e.26.12140
SEQUENCE:3
DTSTAMP:20260424T104314Z
URL:https://chamber.graysharbor.org/events/details/family-forest-field-day-12140
END:VEVENT

END:VCALENDAR
