BEGIN:VCALENDAR
VERSION:2.0
PRODID:-//ChamberMaster//Event Calendar 2.0//EN
METHOD:PUBLISH
X-PUBLISHED-TTL:P3D
REFRESH-INTERVAL:P3D
CALSCALE:GREGORIAN
BEGIN:VEVENT
DTSTART:20200314T210000Z
DTEND:20200314T230000Z
X-MICROSOFT-CDO-ALLDAYEVENT:FALSE
SUMMARY:Family Movie Day
DESCRIPTION:The library will be showing a family friendly movie and providing some delicious movie theater snacks. Those in attendance will vote on the movie being shown. Refreshments provided by the Friends of Hoquiam Timberland Library.
X-ALT-DESC;FMTTYPE=text/html:<span style="caret-color: rgb(29\, 33\, 41)\; color: rgb(29\, 33\, 41)\; font-family: system-ui\, -apple-system\, BlinkMacSystemFont\, &quot\;.SFNSText-Regular&quot\;\, sans-serif\; font-size: 14px\; white-space: pre-wrap\;">The library will be showing a family friendly movie and providing some delicious movie theater snacks. Those in attendance will vote on the movie being shown. Refreshments provided by the Friends of Hoquiam Timberland Library.</span>
LOCATION:pin Hoquiam Timberland Library 420 7th St\, Hoquiam\, Washington 98550
UID:e.26.12446
SEQUENCE:3
DTSTAMP:20260424T060319Z
URL:https://chamber.graysharbor.org/events/details/family-movie-day-12446
END:VEVENT

END:VCALENDAR
