BEGIN:VCALENDAR
VERSION:2.0
PRODID:-//ChamberMaster//Event Calendar 2.0//EN
METHOD:PUBLISH
X-PUBLISHED-TTL:P3D
REFRESH-INTERVAL:P3D
CALSCALE:GREGORIAN
BEGIN:VEVENT
DTSTART:20180817T230000Z
DTEND:20180818T020000Z
X-MICROSOFT-CDO-ALLDAYEVENT:FALSE
SUMMARY:Fan Fest 2018 Spaghetti Dinner Fundraiser
DESCRIPTION:We will hosting a Spaghetti Dinner Fundraiser Friday night of Fan Fest 2018. All Proceeds benefit the students in need throughout Grays Harbor County. \n\nWe currently provide weekend meals to over 350 students each academic school year. Your generosity will continue our mission to end homelessness and hunger one student at a time.
X-ALT-DESC;FMTTYPE=text/html:<span style="color: rgb(75\, 79\, 86)\; font-family: Helvetica\, Arial\, sans-serif\; font-size: 14px\; background-color: rgb(255\, 255\, 255)\;">We will hosting a Spaghetti Dinner Fundraiser Friday night of Fan Fest 2018. All Proceeds benefit the students in need throughout Grays Harbor County.&nbsp\;</span><br style="color: rgb(75\, 79\, 86)\; font-family: Helvetica\, Arial\, sans-serif\; font-size: 14px\; background-color: rgb(255\, 255\, 255)\;" />\n<span style="color: rgb(75\, 79\, 86)\; font-family: Helvetica\, Arial\, sans-serif\; font-size: 14px\; background-color: rgb(255\, 255\, 255)\;">We currently provide weekend meals to over 350 students each academic school year. Your generosity will continue our mission to end homelessness and hunger one student at a time.</span>
LOCATION:pin 120 W Chance A la Mer NW\, Ocean Shores\, WA 98569-9660\, United States
UID:e.26.10657
SEQUENCE:3
DTSTAMP:20260425T033024Z
URL:https://chamber.graysharbor.org/events/details/fan-fest-2018-spaghetti-dinner-fundraiser-10657
END:VEVENT

END:VCALENDAR
