BEGIN:VCALENDAR
VERSION:2.0
PRODID:-//ChamberMaster//Event Calendar 2.0//EN
METHOD:PUBLISH
X-PUBLISHED-TTL:P3D
REFRESH-INTERVAL:P3D
CALSCALE:GREGORIAN
BEGIN:VEVENT
DTSTART:20190721T030000Z
DTEND:20190721T065500Z
X-MICROSOFT-CDO-ALLDAYEVENT:FALSE
SUMMARY:Fat Chance Band
DESCRIPTION:Fat chance band Rock-blues-country
X-ALT-DESC;FMTTYPE=text/html:Fat chance band Rock-blues-country
LOCATION:Parkway tavern 417 n park St Aberdeen WA 98520
UID:e.26.12127
SEQUENCE:3
DTSTAMP:20260424T104116Z
URL:https://chamber.graysharbor.org/events/details/fat-chance-band-12127
END:VEVENT

END:VCALENDAR
