BEGIN:VCALENDAR
VERSION:2.0
PRODID:-//ChamberMaster//Event Calendar 2.0//EN
METHOD:PUBLISH
X-PUBLISHED-TTL:P3D
REFRESH-INTERVAL:P3D
CALSCALE:GREGORIAN
BEGIN:VEVENT
DTSTART:20191106T200000Z
DTEND:20191106T210000Z
X-MICROSOFT-CDO-ALLDAYEVENT:FALSE
SUMMARY:Fat Marty’s Ribbon Cutting
DESCRIPTION:GGHI will be hosting a ribbon cutting at Fat Marty's on Wednesday\, November 6th at Noon. This awesome new Taco Shack is located at 185 W Chance a La Mer NW\, Ocean Shores\, WA. Swing by for the ribbon cutting\, then grab some tacos for lunch!\n\n \n\nSee you there!
X-ALT-DESC;FMTTYPE=text/html:<span style="color:#000000\;"><span style="font-size:12pt\;">GGHI will be hosting a ribbon cutting at Fat Marty&rsquo\;s on Wednesday\, November 6<sup>th</sup>&nbsp\;at Noon. This awesome new Taco Shack is located at&nbsp\;185 W Chance a La Mer NW\, Ocean Shores\, WA. Swing by for the ribbon cutting\, then grab some tacos for lunch!</span><br />\n&nbsp\;<br />\n<span style="font-size:12pt\;">See you there!</span></span>
LOCATION:185 W Chance a La Mer NW Ocean Shores\, WA 98569
UID:e.26.12266
SEQUENCE:3
DTSTAMP:20260424T060139Z
URL:https://chamber.graysharbor.org/events/details/fat-marty-s-ribbon-cutting-12266
END:VEVENT

END:VCALENDAR
