BEGIN:VCALENDAR
VERSION:2.0
PRODID:-//ChamberMaster//Event Calendar 2.0//EN
METHOD:PUBLISH
X-PUBLISHED-TTL:P3D
REFRESH-INTERVAL:P3D
CALSCALE:GREGORIAN
BEGIN:VEVENT
DTSTART;VALUE=DATE:20180317
DTEND;VALUE=DATE:20180318
TRANSP:TRANSPARENT
X-MICROSOFT-CDO-ALLDAYEVENT:TRUE
SUMMARY:Fat Tire Bike Race
DESCRIPTION:Come and join us for our first FAT Tire bike race through the scenic beach town of Seabrook!\n \n\nDetails coming soon!
X-ALT-DESC;FMTTYPE=text/html:<span style="color: rgb(57\, 79\, 90)\; font-family: Ubuntu\, arial\, sans-serif\; font-size: 14px\; background-color: rgb(246\, 247\, 247)\;">Come and join us for our first FAT Tire bike race through the scenic beach town of Seabrook!</span>\n<div style="margin: 0px\; outline: none 0px\; padding: 0px\; color: rgb(57\, 79\, 90)\; font-family: Ubuntu\, arial\, sans-serif\; font-size: 14px\; background-color: rgb(246\, 247\, 247)\;">&nbsp\;</div>\n\n<div style="margin: 0px\; outline: none 0px\; padding: 0px\; color: rgb(57\, 79\, 90)\; font-family: Ubuntu\, arial\, sans-serif\; font-size: 14px\; background-color: rgb(246\, 247\, 247)\;">Details coming soon!</div>\n
LOCATION:Seabrook Washington Pacfic Beach\, WA
UID:e.26.9526
SEQUENCE:3
DTSTAMP:20260425T115625Z
URL:https://chamber.graysharbor.org/events/details/fat-tire-bike-race-9526
END:VEVENT

END:VCALENDAR
