BEGIN:VCALENDAR
VERSION:2.0
PRODID:-//ChamberMaster//Event Calendar 2.0//EN
METHOD:PUBLISH
X-PUBLISHED-TTL:P3D
REFRESH-INTERVAL:P3D
CALSCALE:GREGORIAN
BEGIN:VEVENT
DTSTART;VALUE=DATE:20170618
DTEND;VALUE=DATE:20170619
TRANSP:TRANSPARENT
X-MICROSOFT-CDO-ALLDAYEVENT:TRUE
SUMMARY:Father's Day BBQ Celebration
DESCRIPTION:Sunday\, June 18th Father's Day  \n\n   Barbeque Celebration - Specials from the Oyhut Bay Bistro
X-ALT-DESC;FMTTYPE=text/html:<p><font size="3"><font face="Times New Roman"><strong><span style="color: rgb(80\, 80\, 80)\;">Sunday\, June 18th Father&rsquo\;s Day</span></strong><span style="color: rgb(80\, 80\, 80)\;"> &nbsp\;</span><span style="color: rgb(80\, 80\, 80)\; font-family: &quot\;Helvetica&quot\;\,&quot\;sans-serif&quot\;\;"><o:p></o:p></span></font></font></p>\n\n<p><font size="3"><font face="Times New Roman"><span style="color: rgb(80\, 80\, 80)\;">&nbsp\; &nbsp\;Barbeque Celebration - Specials from the Oyhut Bay Bistro </span><span style="color: rgb(80\, 80\, 80)\; font-family: &quot\;Helvetica&quot\;\,&quot\;sans-serif&quot\;\;"><o:p></o:p></span></font></font></p>\n
LOCATION:Oyhut Bay 400 Salmonberry Lane SW Ocean Shores\, WA
UID:e.26.7736
SEQUENCE:3
DTSTAMP:20260426T015418Z
URL:https://chamber.graysharbor.org/events/details/father-s-day-bbq-celebration-7736
END:VEVENT

END:VCALENDAR
