BEGIN:VCALENDAR
VERSION:2.0
PRODID:-//ChamberMaster//Event Calendar 2.0//EN
METHOD:PUBLISH
X-PUBLISHED-TTL:P3D
REFRESH-INTERVAL:P3D
CALSCALE:GREGORIAN
BEGIN:VEVENT
DTSTART:20171217T010000Z
DTEND:20171217T030000Z
X-MICROSOFT-CDO-ALLDAYEVENT:FALSE
SUMMARY:Feast for All
DESCRIPTION:Come join us for a FREE three course meal this holiday. Sat\, Dec 16\, 2017 from 5 pm - 7 pm.
X-ALT-DESC;FMTTYPE=text/html:<span style="color: rgb(75\, 79\, 86)\; font-family: Helvetica\, Arial\, sans-serif\; font-size: 14px\; background-color: rgb(255\, 255\, 255)\;">Come join us for a FREE three course meal this holiday. Sat\, Dec 16\, 2017 from 5 pm - 7 pm.</span>
LOCATION:pin Hide Map First Presbyterian Church of Aberdeen 420 N Broadway St\, Aberdeen\, Washington 98520
UID:e.26.9402
SEQUENCE:3
DTSTAMP:20260425T163456Z
URL:https://chamber.graysharbor.org/events/details/feast-for-all-9402
END:VEVENT

END:VCALENDAR
