BEGIN:VCALENDAR
VERSION:2.0
PRODID:-//ChamberMaster//Event Calendar 2.0//EN
METHOD:PUBLISH
X-PUBLISHED-TTL:P3D
REFRESH-INTERVAL:P3D
CALSCALE:GREGORIAN
BEGIN:VEVENT
DTSTART:20180909T180000Z
DTEND:20180909T230000Z
X-MICROSOFT-CDO-ALLDAYEVENT:FALSE
SUMMARY:Festival in the Park
DESCRIPTION:Come join us on September 9th at the Lions Park in Cosmopolis for an afternoon of fun! The Bruce Hughes Band will be playing and we have the following vendors: Fierce Face by Fry\, Found Treasures\, Diane Beck's Creations\, Paint & Sip\, Sweet Obsessions\, North Utopian Wares\, Montesano Moose Lodge\, Paparazzi Accessories\, Sassy Seafood\, Cosmopolis Lions Club\, MB Legging Craze\, DoTerra\, Susie Marie's Lemonade Stand\, Bobcat Boosters\, Scentsy\, Lularoe\, Mary Kay\, The Frosty Cow\, Laura Calkins Lighted Glass\, Woodcrafts by Pear\, Mixed Elements Design
X-ALT-DESC;FMTTYPE=text/html:<span style="color: rgb(29\, 33\, 41)\; font-family: Helvetica\, Arial\, sans-serif\; font-size: 14px\; background-color: rgb(255\, 255\, 255)\;">Come join us on September 9th at the Lions Park in Cosmopolis for an afternoon of fun! The Bruce Hughes Band will be playing and we have the following vendors: Fierce Face by Fry\, Found Treasures\, Diane Beck&#39\;s Creations\, Paint &amp\; Sip\, Sweet Obsessions\, North Utopian Wares\, Montesano Moose Lodge\, Paparazzi Accessories\, Sassy Seafood\, Cosmopolis Lions Club\, MB Legging Craze\, DoTerra\, Susie Marie&#39\;s Lemonade Stand\, Bobcat Boosters\, Scentsy\, Lularoe\, Mary Kay\, The Frosty Cow\, Laura Calkins Lighted Glass\, Woodcrafts by Pear\, Mixed Elements Design</span>
LOCATION:Cosmopolis Lions Club
UID:e.26.11225
SEQUENCE:3
DTSTAMP:20260425T015646Z
URL:https://chamber.graysharbor.org/events/details/festival-in-the-park-11225
END:VEVENT

END:VCALENDAR
