BEGIN:VCALENDAR
VERSION:2.0
PRODID:-//ChamberMaster//Event Calendar 2.0//EN
METHOD:PUBLISH
X-PUBLISHED-TTL:P3D
REFRESH-INTERVAL:P3D
CALSCALE:GREGORIAN
BEGIN:VEVENT
DTSTART:20190817T170000Z
DTEND:20190817T230000Z
X-MICROSOFT-CDO-ALLDAYEVENT:FALSE
SUMMARY:Festival in the Park
DESCRIPTION:The annual Cosmopolis Festival in the Park will take place on August 17th at Lions Park for a day of fun for the whole family! There will be live music\, bouncy houses\, vendors selling treats like popcorn and cotton candy\, plus food\, arts\, and crafts vendors. Enjoy the summer weather and bring the kids for a great day in the park!
X-ALT-DESC;FMTTYPE=text/html:<span style="caret-color: rgb(29\, 33\, 41)\; color: rgb(29\, 33\, 41)\; font-family: Arial\, sans-serif\; font-size: medium\; white-space: pre-wrap\;">The annual Cosmopolis Festival in the Park will take place on August 17th at Lions Park for a day of fun for the whole family! There will be live music\, bouncy houses\, vendors selling treats like popcorn and cotton candy\, plus food\, arts\, and crafts vendors. Enjoy the summer weather and bring the kids for a great day in the park!</span>
LOCATION:Lions Park Cosmopolis\, WA
UID:e.26.12057
SEQUENCE:3
DTSTAMP:20260424T090238Z
URL:https://chamber.graysharbor.org/events/details/festival-in-the-park-12057
END:VEVENT

END:VCALENDAR
