BEGIN:VCALENDAR
VERSION:2.0
PRODID:-//ChamberMaster//Event Calendar 2.0//EN
METHOD:PUBLISH
X-PUBLISHED-TTL:P3D
REFRESH-INTERVAL:P3D
CALSCALE:GREGORIAN
BEGIN:VEVENT
DTSTART:20170910T190000Z
DTEND:20170910T230000Z
X-MICROSOFT-CDO-ALLDAYEVENT:FALSE
SUMMARY:Festival in the Park
DESCRIPTION:Come join us at the Lions Club Park for the City of Cosmopolis' annual Festival in the Park! We have live music\, food\, and fun for all ages!
X-ALT-DESC;FMTTYPE=text/html:<div class="_4-u2 _3xaf _3-95 _4-u8" style="border-width: 1px 0px\; border-style: solid\; border-image: initial\; border-color: transparent\; border-radius: 3px\; background-color: rgb(255\, 255\, 255)\; margin-bottom: 8px\; position: relative\; font-family: Helvetica\, Arial\, sans-serif\; color: rgb(29\, 33\, 41)\; font-size: 12px\;">\n<div class="_2qgs" style="color: rgb(75\, 79\, 86)\; padding: 12px\; position: relative\; border-top: none\; font-family: inherit\;"><span class="_4n-j _3cht fsl" data-testid="event-permalink-details" style="font-size: 14px\; font-family: inherit\;">Come join us at the Lions Club Park for the City of Cosmopolis&#39\; annual Festival in the Park! We have live music\, food\, and fun for all ages!</span></div>\n</div>\n
LOCATION:Cosi Lions Club Cosmopolis\, WA
UID:e.26.8159
SEQUENCE:3
DTSTAMP:20260425T213811Z
URL:https://chamber.graysharbor.org/events/details/festival-in-the-park-8159
END:VEVENT

END:VCALENDAR
