BEGIN:VCALENDAR
VERSION:2.0
PRODID:-//ChamberMaster//Event Calendar 2.0//EN
METHOD:PUBLISH
X-PUBLISHED-TTL:P3D
REFRESH-INTERVAL:P3D
CALSCALE:GREGORIAN
BEGIN:VEVENT
DTSTART;VALUE=DATE:20170603
DTEND;VALUE=DATE:20170604
TRANSP:TRANSPARENT
X-MICROSOFT-CDO-ALLDAYEVENT:TRUE
SUMMARY:Festival of Colors Kite Festival
DESCRIPTION:Annual event showcasing kites & kite flying. What a great family event for novice to professional kite flyers! Come fly a kite or enjoy the antics of colorful kites filling the skies.
X-ALT-DESC;FMTTYPE=text/html:Annual event showcasing kites &amp\; kite flying. What a great family event for novice to professional kite flyers! Come fly a kite or enjoy the antics of colorful kites filling the skies.
LOCATION:Ocean Shores\, WA
UID:e.26.6525
SEQUENCE:3
DTSTAMP:20260426T015745Z
URL:https://chamber.graysharbor.org/events/details/festival-of-colors-kite-festival-6525
END:VEVENT

END:VCALENDAR
