BEGIN:VCALENDAR
VERSION:2.0
PRODID:-//ChamberMaster//Event Calendar 2.0//EN
METHOD:PUBLISH
X-PUBLISHED-TTL:P3D
REFRESH-INTERVAL:P3D
CALSCALE:GREGORIAN
BEGIN:VEVENT
DTSTART;VALUE=DATE:20171209
DTEND;VALUE=DATE:20171210
TRANSP:TRANSPARENT
X-MICROSOFT-CDO-ALLDAYEVENT:TRUE
SUMMARY:Festival of Lights
DESCRIPTION:This annual festival has a fun\, lighted parade\, vendors\, a large bonfire and small town charm right in downtown Montesano!
X-ALT-DESC;FMTTYPE=text/html:This annual festival has a fun\, lighted parade\, vendors\, a&nbsp\;large bonfire and small town charm right in downtown Montesano!
LOCATION:Downtown Montesano
UID:e.26.7648
SEQUENCE:3
DTSTAMP:20260425T163923Z
URL:https://chamber.graysharbor.org/events/details/festival-of-lights-7648
END:VEVENT

END:VCALENDAR
