BEGIN:VCALENDAR
VERSION:2.0
PRODID:-//ChamberMaster//Event Calendar 2.0//EN
METHOD:PUBLISH
X-PUBLISHED-TTL:P3D
REFRESH-INTERVAL:P3D
CALSCALE:GREGORIAN
BEGIN:VEVENT
DTSTART:20181209T000000Z
DTEND:20181209T030000Z
X-MICROSOFT-CDO-ALLDAYEVENT:FALSE
SUMMARY:Festival of Lights Cocoa and Parade
DESCRIPTION:We will be opening the downstairs of the Monte Church of God for girls to get ready and stay warm. This years theme is "LIGHTS" so if they want to dress up\, just be as festive and "lighted" as you want. We are just providing hot cocoa this year. Please bring a sack dinner and if you'd like to bring some cookies to share with the cocoa that would be lovely! THE PARADE WALKS AT 6 p.m. We do have a truck and trailer this year\, but it does have limited seating so some girls still walk. If your scout is wanting to be in the parade\, please make sure and sign up so we have an accurate head count and the leaders know who they are in charge of. \n\nOur Brownie Leader Claire is in charge of the cocoa and opening the church and our Daisy leader Deja is in charge of the float. The girls will walk the parade and then meet up across the street from the library at the white canopy and watch the rest of the parade. They then walk back to the church and clean up. :)
X-ALT-DESC;FMTTYPE=text/html:<span style="caret-color: rgb(29\, 33\, 41)\; color: rgb(29\, 33\, 41)\; font-family: system-ui\, -apple-system\, BlinkMacSystemFont\, &quot\;.SFNSText-Regular&quot\;\, sans-serif\; font-size: 14px\; background-color: rgb(255\, 255\, 255)\;">We will be opening the downstairs of the Monte Church of God for girls to get ready and stay warm. This years theme is &quot\;LIGHTS&quot\; so if they want to dress up\, just be as festive and &quot\;lighted&quot\; as you want. We are just providing hot cocoa this year. Please bring a sack dinner and if you&#39\;d like to bring some cookies to share with the cocoa that would be lovely! THE PARADE WALKS AT 6 p.m. We do have a truck and trailer this year\, but it does have limited seating so some girls still walk. If your scout is wanting to be in the parade\, please make sure and sign up so we have an accurate head count and the leaders know who they are in charge of.&nbsp\;</span><br style="caret-color: rgb(29\, 33\, 41)\; color: rgb(29\, 33\, 41)\; font-family: system-ui\, -apple-system\, BlinkMacSystemFont\, &quot\;.SFNSText-Regular&quot\;\, sans-serif\; font-size: 14px\;" />\n<span style="caret-color: rgb(29\, 33\, 41)\; color: rgb(29\, 33\, 41)\; font-family: system-ui\, -apple-system\, BlinkMacSystemFont\, &quot\;.SFNSText-Regular&quot\;\, sans-serif\; font-size: 14px\; background-color: rgb(255\, 255\, 255)\;">Our Brownie Leader Claire is in charge of the cocoa and opening the church and our Daisy leader Deja is in charge of the float. The girls will walk the parade and then meet up across the street from the library at the white canopy and watch the rest of the parade. They then walk back to the church and clean up. :)</span>
LOCATION:pin Montesano Church of God 317 E Spruce Ave\, Montesano\, Washington 98563
UID:e.26.11368
SEQUENCE:3
DTSTAMP:20260424T210849Z
URL:https://chamber.graysharbor.org/events/details/festival-of-lights-cocoa-and-parade-11368
END:VEVENT

END:VCALENDAR
