BEGIN:VCALENDAR
VERSION:2.0
PRODID:-//ChamberMaster//Event Calendar 2.0//EN
METHOD:PUBLISH
X-PUBLISHED-TTL:P3D
REFRESH-INTERVAL:P3D
CALSCALE:GREGORIAN
BEGIN:VEVENT
DTSTART:20251213T170000Z
DTEND:20251213T220000Z
X-MICROSOFT-CDO-ALLDAYEVENT:FALSE
SUMMARY:Festival of Lights Craft Fair
DESCRIPTION:We will be hosting a vendor event the Saturday of Festival of Lights in Montesano. A portion of the booth proceeds benefit Back to School Marketplace and we will be onsite with a booth to share what we do! Come check out your local Monte vendors at Whitney's Detail Shop again this year.
X-ALT-DESC;FMTTYPE=text/html:<div class="xdj266r x14z9mp xat24cr x1lziwak x1vvkbs" style="overflow-wrap: break-word\; margin-inline: 0px\; margin-bottom: 0px\; margin-top: 0px\; font-family: &quot\;Segoe UI Historic&quot\;\, &quot\;Segoe UI&quot\;\, Helvetica\, Arial\, sans-serif\; color: rgb(8\, 8\, 9)\; font-size: 15px\;"><span style="font-family:arial\;">We will be hosting a vendor event the Saturday of Festival of Lights in Montesano. A portion of the booth proceeds benefit Back to School Marketplace and we will be onsite with a booth to share what we do! Come check out your local Monte vendors at Whitney&rsquo\;s Detail Shop again this year.</span></div>\n
LOCATION:Whitney's Detail Shop Montesano\, WA
UID:e.26.15291
SEQUENCE:3
DTSTAMP:20260423T220429Z
URL:https://chamber.graysharbor.org/events/details/festival-of-lights-craft-fair-15291
END:VEVENT

END:VCALENDAR
