BEGIN:VCALENDAR
VERSION:2.0
PRODID:-//ChamberMaster//Event Calendar 2.0//EN
METHOD:PUBLISH
X-PUBLISHED-TTL:P3D
REFRESH-INTERVAL:P3D
CALSCALE:GREGORIAN
BEGIN:VEVENT
DTSTART:20181209T010000Z
DTEND:20181209T020000Z
X-MICROSOFT-CDO-ALLDAYEVENT:FALSE
SUMMARY:Festival of Lights Open House
DESCRIPTION:Warm up before the Parade and enjoy refreshments with the Friends of the Library. Featuring Holiday music from the Grays Harbor Banjo Band.
X-ALT-DESC;FMTTYPE=text/html:<span style="caret-color: rgb(29\, 33\, 41)\; color: rgb(29\, 33\, 41)\; font-family: system-ui\, -apple-system\, BlinkMacSystemFont\, &quot\;.SFNSText-Regular&quot\;\, sans-serif\; font-size: 14px\; background-color: rgb(255\, 255\, 255)\;">Warm up before the Parade and enjoy refreshments with the Friends of the Library. Featuring Holiday music from the Grays Harbor Banjo Band.</span>
LOCATION:pin Montesano Timberland Library 125 S Main St\, Montesano\, Washington 98563
UID:e.26.11367
SEQUENCE:3
DTSTAMP:20260424T210957Z
URL:https://chamber.graysharbor.org/events/details/festival-of-lights-open-house-11367
END:VEVENT

END:VCALENDAR
