BEGIN:VCALENDAR
VERSION:2.0
PRODID:-//ChamberMaster//Event Calendar 2.0//EN
METHOD:PUBLISH
X-PUBLISHED-TTL:P3D
REFRESH-INTERVAL:P3D
CALSCALE:GREGORIAN
BEGIN:VEVENT
DTSTART:20181208T030000Z
DTEND:20181209T200000Z
X-MICROSOFT-CDO-ALLDAYEVENT:FALSE
SUMMARY:Festival of Lights Weekend
DESCRIPTION:Visit montesanochamber.org for more info. \n\nCurrently accepting applications for craft fair and parade route food vendors.\n\n\n\nCraft fair\, Pancake Breakfast & Auction\, Jungle Lights (new light show!) Grand Parade\, food vendors\, Yule Log\, Bus Tours of Christmas Lights\, Decorating Contests\, Cookies with Santa\, Live Music...and so much more! \n\n\n\nJoin us all weekend so you don't miss any of the fun!
X-ALT-DESC;FMTTYPE=text/html:<span style="caret-color: rgb(29\, 33\, 41)\; color: rgb(29\, 33\, 41)\; font-family: system-ui\, -apple-system\, BlinkMacSystemFont\, &quot\;.SFNSText-Regular&quot\;\, sans-serif\; font-size: 14px\; background-color: rgb(255\, 255\, 255)\;">Visit&nbsp\;</span><a data-lynx-mode="hover" data-lynx-uri="https://l.facebook.com/l.php?u=http%3A%2F%2Fmontesanochamber.org%2F%3Ffbclid%3DIwAR1EVq9aYJH_7EpokY6f2W-XOH6NfVLwkKY85zgBxv5nu4L9mKX0E7HHCHg&amp\;h=AT2TV6T_5cROlKR5gOvQi2USNOBzZA9xlftriRotUNwJZrQWcZzy53S0GBFmF5MPArEonjY5ade_WKhpa52P78Eo7XroQ2duPYM1kEacWpkcrJqFxrslMJnatITTdYsd0QENgPQCcA" href="http://montesanochamber.org/?fbclid=IwAR1EVq9aYJH_7EpokY6f2W-XOH6NfVLwkKY85zgBxv5nu4L9mKX0E7HHCHg" rel="nofollow noopener" style="color: rgb(54\, 88\, 153)\; cursor: pointer\; text-decoration: none\; font-family: system-ui\, -apple-system\, BlinkMacSystemFont\, &quot\;.SFNSText-Regular&quot\;\, sans-serif\; font-size: 14px\;" target="_blank">montesanochamber.org</a><span style="caret-color: rgb(29\, 33\, 41)\; color: rgb(29\, 33\, 41)\; font-family: system-ui\, -apple-system\, BlinkMacSystemFont\, &quot\;.SFNSText-Regular&quot\;\, sans-serif\; font-size: 14px\; background-color: rgb(255\, 255\, 255)\;">&nbsp\;for more info.&nbsp\;</span><br style="caret-color: rgb(29\, 33\, 41)\; color: rgb(29\, 33\, 41)\; font-family: system-ui\, -apple-system\, BlinkMacSystemFont\, &quot\;.SFNSText-Regular&quot\;\, sans-serif\; font-size: 14px\;" />\n<span style="caret-color: rgb(29\, 33\, 41)\; color: rgb(29\, 33\, 41)\; font-family: system-ui\, -apple-system\, BlinkMacSystemFont\, &quot\;.SFNSText-Regular&quot\;\, sans-serif\; font-size: 14px\; background-color: rgb(255\, 255\, 255)\;">Currently accepting applications for craft fair and parade route food vendors.</span><br style="caret-color: rgb(29\, 33\, 41)\; color: rgb(29\, 33\, 41)\; font-family: system-ui\, -apple-system\, BlinkMacSystemFont\, &quot\;.SFNSText-Regular&quot\;\, sans-serif\; font-size: 14px\;" />\n<br style="caret-color: rgb(29\, 33\, 41)\; color: rgb(29\, 33\, 41)\; font-family: system-ui\, -apple-system\, BlinkMacSystemFont\, &quot\;.SFNSText-Regular&quot\;\, sans-serif\; font-size: 14px\;" />\n<span style="caret-color: rgb(29\, 33\, 41)\; color: rgb(29\, 33\, 41)\; font-family: system-ui\, -apple-system\, BlinkMacSystemFont\, &quot\;.SFNSText-Regular&quot\;\, sans-serif\; font-size: 14px\; background-color: rgb(255\, 255\, 255)\;">Craft fair\, Pancake Breakfast &amp\; Auction\, Jungle Lights (new light show!) Grand Parade\, food vendors\, Yule Log\, Bus Tours of Christmas Lights\, Decorating Contests\, Cookies with Santa\, Live Music...and so much more!&nbsp\;</span><br style="caret-color: rgb(29\, 33\, 41)\; color: rgb(29\, 33\, 41)\; font-family: system-ui\, -apple-system\, BlinkMacSystemFont\, &quot\;.SFNSText-Regular&quot\;\, sans-serif\; font-size: 14px\;" />\n<br style="caret-color: rgb(29\, 33\, 41)\; color: rgb(29\, 33\, 41)\; font-family: system-ui\, -apple-system\, BlinkMacSystemFont\, &quot\;.SFNSText-Regular&quot\;\, sans-serif\; font-size: 14px\;" />\n<span style="caret-color: rgb(29\, 33\, 41)\; color: rgb(29\, 33\, 41)\; font-family: system-ui\, -apple-system\, BlinkMacSystemFont\, &quot\;.SFNSText-Regular&quot\;\, sans-serif\; font-size: 14px\; background-color: rgb(255\, 255\, 255)\;">Join us all weekend so you don&rsquo\;t miss any of the fun!</span>
LOCATION:Montesano
UID:e.26.11370
SEQUENCE:3
DTSTAMP:20260424T224350Z
URL:https://chamber.graysharbor.org/events/details/festival-of-lights-weekend-11370
END:VEVENT

END:VCALENDAR
