BEGIN:VCALENDAR
VERSION:2.0
PRODID:-//ChamberMaster//Event Calendar 2.0//EN
METHOD:PUBLISH
X-PUBLISHED-TTL:P3D
REFRESH-INTERVAL:P3D
CALSCALE:GREGORIAN
BEGIN:VEVENT
DTSTART:20190504T170000Z
DTEND:20190504T190000Z
X-MICROSOFT-CDO-ALLDAYEVENT:FALSE
SUMMARY:Finding Ideas for Your Garden in Ours
DESCRIPTION:Looking for great ideas for your home garden? Come to this workshop that will tour the Master Gardener's demo garden for landscape design ideas such as utilizing native plants and raised beds\, as well as what to plant on a hillside or wetland area. Come dressed for the weather.\n\n\n\nSaturday May 4th\, 10am - noon\, at the WSU Demonstration Garden\, Grays Harbor Fairgrounds in Elma. All are welcome and there is no fee for the workshop or parking. In the case of inclement weather\, please meet at the WSU Extension office at the fairgrounds.
X-ALT-DESC;FMTTYPE=text/html:<span style="caret-color: rgb(29\, 33\, 41)\; color: rgb(29\, 33\, 41)\; font-family: system-ui\, -apple-system\, BlinkMacSystemFont\, &quot\;.SFNSText-Regular&quot\;\, sans-serif\; font-size: 14px\; white-space: pre-wrap\;">Looking for great ideas for your home garden? Come to this workshop that will tour the Master Gardener&#39\;s demo garden for landscape design ideas such as utilizing native plants and raised beds\, as well as what to plant on a hillside or wetland area. Come dressed for the weather.</span><br style="caret-color: rgb(29\, 33\, 41)\; color: rgb(29\, 33\, 41)\; font-family: system-ui\, -apple-system\, BlinkMacSystemFont\, &quot\;.SFNSText-Regular&quot\;\, sans-serif\; font-size: 14px\; white-space: pre-wrap\;" />\n<br style="caret-color: rgb(29\, 33\, 41)\; color: rgb(29\, 33\, 41)\; font-family: system-ui\, -apple-system\, BlinkMacSystemFont\, &quot\;.SFNSText-Regular&quot\;\, sans-serif\; font-size: 14px\; white-space: pre-wrap\;" />\n<span style="caret-color: rgb(29\, 33\, 41)\; color: rgb(29\, 33\, 41)\; font-family: system-ui\, -apple-system\, BlinkMacSystemFont\, &quot\;.SFNSText-Regular&quot\;\, sans-serif\; font-size: 14px\; white-space: pre-wrap\;">Saturday May 4th\, 10am - noon\, at the WSU Demonstration Garden\, Grays Harbor Fairgrounds in Elma. All are welcome and there is no fee for the workshop or parking. In the case of inclement weather\, please meet at the WSU Extension office at the fairgrounds.</span>
LOCATION:pin Grays Harbor Fairgrounds 32 Elma McCleary Rd\, Elma\, Washington 98541
UID:e.26.11798
SEQUENCE:3
DTSTAMP:20260424T132826Z
URL:https://chamber.graysharbor.org/events/details/finding-ideas-for-your-garden-in-ours-11798
END:VEVENT

END:VCALENDAR
