BEGIN:VCALENDAR
VERSION:2.0
PRODID:-//ChamberMaster//Event Calendar 2.0//EN
METHOD:PUBLISH
X-PUBLISHED-TTL:P3D
REFRESH-INTERVAL:P3D
CALSCALE:GREGORIAN
BEGIN:VEVENT
DTSTART:20200628T160000Z
DTEND:20200628T210000Z
X-MICROSOFT-CDO-ALLDAYEVENT:FALSE
SUMMARY:First Annual Tap Room - Spivey Golf Invitational
DESCRIPTION:Sunday the 28th this month\, we will be the First Annual Tap Room - Spivey Realty Invitational. An awesome event that we will be hosting at Highlands Golf Course. Come out for a day of awesome golf with all of your friends. Call the pro shop at (360) 612-3432 for more information on how you can sign up and reserve your cart!
X-ALT-DESC;FMTTYPE=text/html:<span style="font-size:14px\;"><span style="color:#000000\;"><span style="font-family:arial\;"><span style="caret-color: rgb(102\, 102\, 102)\;">Sunday the 28th this month\, we will be the First Annual Tap Room - Spivey Realty Invitational. An awesome event that we will be hosting at Highlands Gol</span><span class="text_exposed_show" style="display: inline\; caret-color: rgb(102\, 102\, 102)\;">f Course. Come out for a day of awesome golf with all of your friends. Call the pro shop at </span></span></span></span><a data-dtype="d3ifr" data-local-attribute="d3ph" data-ved="2ahUKEwiS06XJo_rpAhVqHzQIHavkBrcQkAgoADATegQIFBAD" href="https://www.google.com/search?client=safari&amp\;rls=en&amp\;sxsrf=ALeKk01-CvwBbRq9nPjJkKvo7yyJExXPhg%3A1591896218962&amp\;ei=mmjiXuO3OsPM0PEPxY-SmAQ&amp\;q=highland+golf+course+cosmopolis&amp\;oq=Highland+Golf+Course+&amp\;gs_lcp=CgZwc3ktYWIQARgAMgIIADICCAAyAggAMgIIADICCAAyAggAMgIIADICCAAyAggAMgIIADoECAAQR1DrLVjrLWCaN2gAcAF4AIABTogBTpIBATGYAQCgAQGqAQdnd3Mtd2l6&amp\;sclient=psy-ab#" jsaction="rcuQ6b:npT2md\;F75qrd" jscontroller="cSkPLb" jsdata="QKGTRc\;\;BEErKo" jsl="$t t-Rc2RokjmVQM\;$x 0\;" style="color: rgb(102\, 0\, 153)\; cursor: pointer\; text-decoration: none\; font-family: arial\, sans-serif\; font-size: 14px\;">(360) 612-3432</a><span style="font-size:14px\;"><span style="color:#000000\;"><span style="font-family:arial\;"><span class="text_exposed_show" style="display: inline\; caret-color: rgb(102\, 102\, 102)\;">&nbsp\;for more information on how you can sign up and reserve your cart!</span></span></span></span>
LOCATION:Highland Golf Course 2200 1st St. Cosmopolis\, WA
UID:e.26.12470
SEQUENCE:3
DTSTAMP:20260424T104314Z
URL:https://chamber.graysharbor.org/events/details/first-annual-tap-room-spivey-golf-invitational-12470
END:VEVENT

END:VCALENDAR
