BEGIN:VCALENDAR
VERSION:2.0
PRODID:-//ChamberMaster//Event Calendar 2.0//EN
METHOD:PUBLISH
X-PUBLISHED-TTL:P3D
REFRESH-INTERVAL:P3D
CALSCALE:GREGORIAN
BEGIN:VEVENT
DTSTART;VALUE=DATE:20200103
DTEND;VALUE=DATE:20200104
TRANSP:TRANSPARENT
X-MICROSOFT-CDO-ALLDAYEVENT:TRUE
SUMMARY:First Friday Art Walk
DESCRIPTION:Aberdeen Art Center welcomes you!\n\nThe First Friday of every month the Aberdeen Art Center is hosting an art walk with artist's demos\, live music and snacks. The Alder Grove Gallery\, Hosstyle Ink Tattoo\, Friends of the Museum and Leigh's Custom Framing will all be open from 5pm-8pm.\n\nIf you are interested in being a participant\, contact Douglass Orr at mindsculptor1@gmail.com
X-ALT-DESC;FMTTYPE=text/html:<p style="caret-color: rgb(0\, 0\, 0)\; color: rgb(0\, 0\, 0)\; margin: 0px 0px 10px\; padding: 0px\; border: 0px\; font-size: 14px\; vertical-align: baseline\; font-family: &quot\;Open Sans&quot\;\, Arial\, Helvetica\;">Aberdeen Art Center welcomes you!</p>\n\n<p style="caret-color: rgb(0\, 0\, 0)\; color: rgb(0\, 0\, 0)\; margin: 0px 0px 10px\; padding: 0px\; border: 0px\; font-size: 14px\; vertical-align: baseline\; font-family: &quot\;Open Sans&quot\;\, Arial\, Helvetica\;">The First Friday of every month the Aberdeen Art Center is hosting an art walk with artist's demos\, live music and snacks. The Alder Grove Gallery\, Hosstyle Ink Tattoo\, Friends of the Museum and Leigh's Custom Framing will all be open from 5pm-8pm.</p>\n\n<p style="caret-color: rgb(0\, 0\, 0)\; color: rgb(0\, 0\, 0)\; margin: 0px 0px 10px\; padding: 0px\; border: 0px\; font-size: 14px\; vertical-align: baseline\; font-family: &quot\;Open Sans&quot\;\, Arial\, Helvetica\;">If you are interested in being a participant\, contact Douglass Orr at mindsculptor1@gmail.com</p>\n
LOCATION:Aberdeen Art Center 200 W Market St.
UID:e.26.11846
SEQUENCE:3
DTSTAMP:20260424T042027Z
URL:https://chamber.graysharbor.org/events/details/first-friday-art-walk-01-03-2020-11846
END:VEVENT

END:VCALENDAR
