BEGIN:VCALENDAR
VERSION:2.0
PRODID:-//ChamberMaster//Event Calendar 2.0//EN
METHOD:PUBLISH
X-PUBLISHED-TTL:P3D
REFRESH-INTERVAL:P3D
CALSCALE:GREGORIAN
BEGIN:VEVENT
DTSTART:20170805T000000Z
DTEND:20170805T030000Z
X-MICROSOFT-CDO-ALLDAYEVENT:FALSE
SUMMARY:First Friday Ladies Sip N Shop
DESCRIPTION:Hello Ladies!!!\n\nGet out of that house! Join us Friday August 4th from 5pm-8pm in Aberdeen at C & C Motorsports as we host our 5th Sip N Shop event! \n\n\n\nWine\, Cupcakes\, and Snacks provided while you shop around and Check out all of the Fun Vendors and Products! \n\nDont forget to get your name in the drawing for a wonderful basket full of goodies from each Vendor! \n\n\n\nPosh\, Sinless Sun (Spray Tans)\, It Works\, LulaRoe\, Scentsy\, Usborne\, Damsel in Defense\, and more! \n\n\n\nBring your friends\, come mingle with these amazing mamas!!!
X-ALT-DESC;FMTTYPE=text/html:<span style="color: rgb(75\, 79\, 86)\; font-family: Helvetica\, Arial\, sans-serif\; font-size: 14px\; background-color: rgb(255\, 255\, 255)\;">Hello Ladies!!!</span><br style="color: rgb(75\, 79\, 86)\; font-family: Helvetica\, Arial\, sans-serif\; font-size: 14px\; background-color: rgb(255\, 255\, 255)\;" />\n<span style="color: rgb(75\, 79\, 86)\; font-family: Helvetica\, Arial\, sans-serif\; font-size: 14px\; background-color: rgb(255\, 255\, 255)\;">Get out of that house! Join us Friday August 4th from 5pm-8pm in Aberdeen at C &amp\; C Motorsports as we host our 5th Sip N Shop event!&nbsp\;</span><br style="color: rgb(75\, 79\, 86)\; font-family: Helvetica\, Arial\, sans-serif\; font-size: 14px\; background-color: rgb(255\, 255\, 255)\;" />\n<br style="color: rgb(75\, 79\, 86)\; font-family: Helvetica\, Arial\, sans-serif\; font-size: 14px\; background-color: rgb(255\, 255\, 255)\;" />\n<span style="color: rgb(75\, 79\, 86)\; font-family: Helvetica\, Arial\, sans-serif\; font-size: 14px\; background-color: rgb(255\, 255\, 255)\;">Wine\, Cupcakes\, and Snacks provided while you shop around and Check out all of the Fun Vendors and Products!&nbsp\;</span><br style="color: rgb(75\, 79\, 86)\; font-family: Helvetica\, Arial\, sans-serif\; font-size: 14px\; background-color: rgb(255\, 255\, 255)\;" />\n<span style="color: rgb(75\, 79\, 86)\; font-family: Helvetica\, Arial\, sans-serif\; font-size: 14px\; background-color: rgb(255\, 255\, 255)\;">Dont forget to get your name in the drawing for a wonderful basket full of goodies from each Vendor!&nbsp\;</span><br style="color: rgb(75\, 79\, 86)\; font-family: Helvetica\, Arial\, sans-serif\; font-size: 14px\; background-color: rgb(255\, 255\, 255)\;" />\n<br style="color: rgb(75\, 79\, 86)\; font-family: Helvetica\, Arial\, sans-serif\; font-size: 14px\; background-color: rgb(255\, 255\, 255)\;" />\n<span style="color: rgb(75\, 79\, 86)\; font-family: Helvetica\, Arial\, sans-serif\; font-size: 14px\; background-color: rgb(255\, 255\, 255)\;">Posh\, Sinless Sun (Spray Tans)\, It Works\, LulaRoe\, Scentsy\, Usborne\, Damsel in Defense\, and more!&nbsp\;</span><br style="color: rgb(75\, 79\, 86)\; font-family: Helvetica\, Arial\, sans-serif\; font-size: 14px\; background-color: rgb(255\, 255\, 255)\;" />\n<br style="color: rgb(75\, 79\, 86)\; font-family: Helvetica\, Arial\, sans-serif\; font-size: 14px\; background-color: rgb(255\, 255\, 255)\;" />\n<span style="color: rgb(75\, 79\, 86)\; font-family: Helvetica\, Arial\, sans-serif\; font-size: 14px\; background-color: rgb(255\, 255\, 255)\;">Bring your friends\, come mingle with these amazing mamas!!!</span>
LOCATION:C&C Motorsports 115 W Heron Street Aberdeen\, WA 98520
UID:e.26.8066
SEQUENCE:3
DTSTAMP:20260426T003310Z
URL:https://chamber.graysharbor.org/events/details/first-friday-ladies-sip-n-shop-8066
END:VEVENT

END:VCALENDAR
