BEGIN:VCALENDAR
VERSION:2.0
PRODID:-//ChamberMaster//Event Calendar 2.0//EN
METHOD:PUBLISH
X-PUBLISHED-TTL:P3D
REFRESH-INTERVAL:P3D
CALSCALE:GREGORIAN
BEGIN:VEVENT
DTSTART:20171103T003000Z
DTEND:20171103T023000Z
X-MICROSOFT-CDO-ALLDAYEVENT:FALSE
SUMMARY:First Thursday
DESCRIPTION:A fun\, purely social event with no agenda other than meeting other young professionals. Come and meet with other young professionals from around Grays Harbor.
X-ALT-DESC;FMTTYPE=text/html:<span style="color: rgb(75\, 79\, 86)\; font-family: Helvetica\, Arial\, sans-serif\; font-size: 14px\; background-color: rgb(255\, 255\, 255)\;">A fun\, purely social event with no agenda other than meeting other young professionals. Come and meet with other young professionals from around Grays Harbor.</span>
LOCATION:Hoquiam Brewing Co. 8th Street Hoquiam
UID:e.26.8310
SEQUENCE:3
DTSTAMP:20260425T180942Z
URL:https://chamber.graysharbor.org/events/details/first-thursday-8310
END:VEVENT

END:VCALENDAR
