BEGIN:VCALENDAR
VERSION:2.0
PRODID:-//ChamberMaster//Event Calendar 2.0//EN
METHOD:PUBLISH
X-PUBLISHED-TTL:P3D
REFRESH-INTERVAL:P3D
CALSCALE:GREGORIAN
BEGIN:VEVENT
DTSTART;VALUE=DATE:20190608
DTEND;VALUE=DATE:20190609
TRANSP:TRANSPARENT
X-MICROSOFT-CDO-ALLDAYEVENT:TRUE
SUMMARY:Flag Day Parade
DESCRIPTION:A chance to show our patriotic spirit. The parade features more than 75 entries and a Grand Marshall. One of the only Flag Day parades in Western Washington.
X-ALT-DESC;FMTTYPE=text/html:<span style="background-color:rgb(255\, 255\, 255)\; color:rgb(128\, 128\, 128)\; font-family:lato\,sans-serif\; font-size:17.008px">A chance to show our patriotic spirit. The parade features more than 75 entries and a Grand Marshall. One of the only Flag Day parades in Western Washington.</span>
LOCATION:Ocean Shores Convention Center 120 W Chance A La Mer Ave Ocean Shores\, WA 98569
UID:e.26.11868
SEQUENCE:3
DTSTAMP:20260424T115216Z
URL:https://chamber.graysharbor.org/events/details/flag-day-parade-06-08-2019-11868
END:VEVENT

END:VCALENDAR
