BEGIN:VCALENDAR
VERSION:2.0
PRODID:-//ChamberMaster//Event Calendar 2.0//EN
METHOD:PUBLISH
X-PUBLISHED-TTL:P3D
REFRESH-INTERVAL:P3D
CALSCALE:GREGORIAN
BEGIN:VEVENT
DTSTART:20170610T180000Z
DTEND:20170610T190000Z
X-MICROSOFT-CDO-ALLDAYEVENT:FALSE
SUMMARY:Flag Day Parade
DESCRIPTION:Honor our Nation's flag with an old-fashioned parade. Over 75 entrants parade through the streets of downtown Ocean Shores. Held on a Saturday at 11am in downtown Ocean Shores.
X-ALT-DESC;FMTTYPE=text/html:Honor our Nation&#39\;s flag with an old-fashioned parade. Over 75 entrants parade through the streets of downtown Ocean Shores. Held on a Saturday at 11am in downtown Ocean Shores.
LOCATION:Downtown Ocean Shoes
UID:e.26.6526
SEQUENCE:3
DTSTAMP:20260426T015203Z
URL:https://chamber.graysharbor.org/events/details/flag-day-parade-6526
END:VEVENT

END:VCALENDAR
