BEGIN:VCALENDAR
VERSION:2.0
PRODID:-//ChamberMaster//Event Calendar 2.0//EN
METHOD:PUBLISH
X-PUBLISHED-TTL:P3D
REFRESH-INTERVAL:P3D
CALSCALE:GREGORIAN
BEGIN:VEVENT
DTSTART:20190505T160000Z
DTEND:20190505T190000Z
X-MICROSOFT-CDO-ALLDAYEVENT:FALSE
SUMMARY:Four Person Scramble Golf Tournament
DESCRIPTION:A golf tournament for everyone who cares about kids! All proceeds go towards the 2019 YMCA of Grays Harbor Annual Campaign.
X-ALT-DESC;FMTTYPE=text/html:A golf tournament for everyone who cares about kids! All proceeds go towards the 2019 YMCA of Grays Harbor Annual Campaign.&nbsp\;
LOCATION:Highland Golf Course Cosmopolis\, WA
UID:e.26.11968
SEQUENCE:3
DTSTAMP:20260424T132946Z
URL:https://chamber.graysharbor.org/events/details/four-person-scramble-golf-tournament-11968
END:VEVENT

END:VCALENDAR
