BEGIN:VCALENDAR
VERSION:2.0
PRODID:-//ChamberMaster//Event Calendar 2.0//EN
METHOD:PUBLISH
X-PUBLISHED-TTL:P3D
REFRESH-INTERVAL:P3D
CALSCALE:GREGORIAN
BEGIN:VEVENT
DTSTART:20190824T190000Z
DTEND:20190824T230000Z
X-MICROSOFT-CDO-ALLDAYEVENT:FALSE
SUMMARY:Fred Keel Golf Tournament
DESCRIPTION:Every year the McCleary Fire Department hosts a golf tournament in honor of Fred Keel a long time volunteer fire chief who lost his life to cancer. Fred dedicated his time to supporting his community.\n\nWe carry on his legacy through the Fred Keel Memorial Fund. Contributions are used to support the McCleary community in different ways\, such as: scholarships and youth events.
X-ALT-DESC;FMTTYPE=text/html:<span style="caret-color: rgb(29\, 33\, 41)\; color: rgb(29\, 33\, 41)\; font-family: system-ui\, -apple-system\, BlinkMacSystemFont\, &quot\;.SFNSText-Regular&quot\;\, sans-serif\; font-size: 14px\; white-space: pre-wrap\;">Every year the McCleary Fire Department hosts a golf tournament in honor of Fred Keel a long time volunteer fire chief who lost his life to cancer. Fred dedicated his time to supporting his community.<br />\nWe carry on his legacy through the Fred Keel Memorial Fund. Contributions are used to support the McCleary community in different ways\, such as: scholarships and youth events.</span>
LOCATION:pin Highland Golf Course 2200 1st St\, Cosmopolis\, Washington 98537
UID:e.26.12022
SEQUENCE:3
DTSTAMP:20260424T104222Z
URL:https://chamber.graysharbor.org/events/details/fred-keel-golf-tournament-12022
END:VEVENT

END:VCALENDAR
