BEGIN:VCALENDAR
VERSION:2.0
PRODID:-//ChamberMaster//Event Calendar 2.0//EN
METHOD:PUBLISH
X-PUBLISHED-TTL:P3D
REFRESH-INTERVAL:P3D
CALSCALE:GREGORIAN
BEGIN:VEVENT
DTSTART:20180915T160000Z
DTEND:20180915T190000Z
X-MICROSOFT-CDO-ALLDAYEVENT:FALSE
SUMMARY:Free Community Shred Day
DESCRIPTION:Great NorthWest FCU's annual Free Community Shred Day will be held at our Aberdeen\, Raymond and Long Beach Branch locations.
X-ALT-DESC;FMTTYPE=text/html:<span style="color: rgb(29\, 33\, 41)\; font-family: Helvetica\, Arial\, sans-serif\; font-size: 14px\; background-color: rgb(255\, 255\, 255)\;">Great NorthWest FCU&#39\;s annual Free Community Shred Day will be held at our Aberdeen\, Raymond and Long Beach Branch locations.</span>
LOCATION:pin Great NorthWest Federal Credit Union 301 W. Wishkah St.\, Aberdeen\, Washington 98520
UID:e.26.11207
SEQUENCE:3
DTSTAMP:20260425T032231Z
URL:https://chamber.graysharbor.org/events/details/free-community-shred-day-11207
END:VEVENT

END:VCALENDAR
