BEGIN:VCALENDAR
VERSION:2.0
PRODID:-//ChamberMaster//Event Calendar 2.0//EN
METHOD:PUBLISH
X-PUBLISHED-TTL:P3D
REFRESH-INTERVAL:P3D
CALSCALE:GREGORIAN
BEGIN:VEVENT
DTSTART:20201114T180000Z
DTEND:20201114T220000Z
X-MICROSOFT-CDO-ALLDAYEVENT:FALSE
SUMMARY:Free Flu Shot Clinic
DESCRIPTION:Getting a flu shot is more important than ever this year. A flu shot this season can reduce the risk of hospitalization and help save medical resources for the care of COVID-19 patients. \n\nVisit Elma HealthMart Pharmacy located in downtown Elma for your 2020 flu shot\, sponsored by Amerigroup Washington.\n\nShots are free to those with insurance and are available for ages 12 and up. Please call 360-346-2350 for more information or if you do not have insurance. \n\nAppointments are encouraged\, but drop-ins are welcome. Attendees will receive a free swag bag courtesy of our generous sponsors. Call 360-346-2350 to make an appointment today!
X-ALT-DESC;FMTTYPE=text/html:<div class="kvgmc6g5 cxmmr5t8 oygrvhab hcukyx3x c1et5uql" style="word-wrap: break-word\; margin: 0px\; font-family: system-ui\, -apple-system\, BlinkMacSystemFont\, &quot\;.SFNSText-Regular&quot\;\, sans-serif\; caret-color: rgb(5\, 5\, 5)\; color: rgb(5\, 5\, 5)\; font-size: 15px\;">Getting a flu shot is more important than ever this year. A flu shot this season can reduce the risk of hospitalization and help save medical resources for the care of COVID-19 patients.&nbsp\;</div>\n\n<div class="o9v6fnle cxmmr5t8 oygrvhab hcukyx3x c1et5uql" style="word-wrap: break-word\; margin: 0.5em 0px 0px\; font-family: system-ui\, -apple-system\, BlinkMacSystemFont\, &quot\;.SFNSText-Regular&quot\;\, sans-serif\; caret-color: rgb(5\, 5\, 5)\; color: rgb(5\, 5\, 5)\; font-size: 15px\;">Visit Elma HealthMart Pharmacy located in downtown Elma for your 2020 flu shot\, sponsored by Amerigroup Washington.</div>\n\n<div class="o9v6fnle cxmmr5t8 oygrvhab hcukyx3x c1et5uql" style="word-wrap: break-word\; margin: 0.5em 0px 0px\; font-family: system-ui\, -apple-system\, BlinkMacSystemFont\, &quot\;.SFNSText-Regular&quot\;\, sans-serif\; caret-color: rgb(5\, 5\, 5)\; color: rgb(5\, 5\, 5)\; font-size: 15px\;">Shots are free to those with insurance and are available for ages 12 and up. Please call 360-346-2350 for more information or if you do not have insurance.&nbsp\;</div>\n\n<div class="o9v6fnle cxmmr5t8 oygrvhab hcukyx3x c1et5uql" style="word-wrap: break-word\; margin: 0.5em 0px 0px\; font-family: system-ui\, -apple-system\, BlinkMacSystemFont\, &quot\;.SFNSText-Regular&quot\;\, sans-serif\; caret-color: rgb(5\, 5\, 5)\; color: rgb(5\, 5\, 5)\; font-size: 15px\;">Appointments are encouraged\, but drop-ins are welcome. Attendees will receive a free swag bag courtesy of our generous sponsors. Call 360-346-2350 to make an appointment today!</div>\n
LOCATION:Elma HealthMart Pharmacy
UID:e.26.12532
SEQUENCE:3
DTSTAMP:20260424T060139Z
URL:https://chamber.graysharbor.org/events/details/free-flu-shot-clinic-12532
END:VEVENT

END:VCALENDAR
