BEGIN:VCALENDAR
VERSION:2.0
PRODID:-//ChamberMaster//Event Calendar 2.0//EN
METHOD:PUBLISH
X-PUBLISHED-TTL:P3D
REFRESH-INTERVAL:P3D
CALSCALE:GREGORIAN
BEGIN:VEVENT
DTSTART:20170506T170000Z
DTEND:20170506T200000Z
X-MICROSOFT-CDO-ALLDAYEVENT:FALSE
SUMMARY:Free Shred Event in Ocean Shores
DESCRIPTION:There will be a FREE SHRED EVENT on Saturday\, May 6th from 10:00 AM to 1:00 PM in the parking lot of the Ocean Shores IGA\, 101 East Chance Ala Mer in Ocean Shores. Everyone is welcome to bring up to three bags of your shredable documents or papers and watch them safely disappear in the LeMay Mobile Shredder. Shredding old documents is a great step in preventing identity theft. Personal and medical records\, cancelled checks\, invoices\, credit card applications   any old documents that contains your personal information should be completely shredded to be destroyed safely. This FREE EVENT is open to all and is brought to you by Coast Communications\, Ocean Shores IGA and Timberland Bank.
X-ALT-DESC;FMTTYPE=text/html:There will be a FREE SHRED EVENT on Saturday\, May 6th from 10:00 AM to 1:00 PM in the parking lot of the Ocean Shores IGA\, 101 East Chance Ala Mer in Ocean Shores. Everyone is welcome to bring up to three bags of your shredable documents or papers and watch them safely disappear in the LeMay Mobile Shredder. Shredding old documents is a great step in preventing identity theft. Personal and medical records\, cancelled checks\, invoices\, credit card applications &ndash\; any old documents that contains your personal information should be completely shredded to be destroyed safely. This FREE EVENT is open to all and is brought to you by Coast Communications\, Ocean Shores IGA and Timberland Bank.
LOCATION:Ocean Shores IGA 101 East Chance Ala Mer Ocean Shores\, 98569
UID:e.26.7589
SEQUENCE:3
DTSTAMP:20260426T033057Z
URL:https://chamber.graysharbor.org/events/details/free-shred-event-in-ocean-shores-7589
END:VEVENT

END:VCALENDAR
