BEGIN:VCALENDAR
VERSION:2.0
PRODID:-//ChamberMaster//Event Calendar 2.0//EN
METHOD:PUBLISH
X-PUBLISHED-TTL:P3D
REFRESH-INTERVAL:P3D
CALSCALE:GREGORIAN
BEGIN:VEVENT
DTSTART:20181222T040000Z
DTEND:20181222T060000Z
X-MICROSOFT-CDO-ALLDAYEVENT:FALSE
SUMMARY:Friday Movie: K2 Siren of the Himalayas
DESCRIPTION:The LOGE Winter Movie Series is in full swing! We'll be showing movies through fall and winter on our outdoor screens (weather permitting) or in our cafe/lobby at Bend & Westport when weather is not ideal.\n\n\n\nK2: Siren of the Himalayas \n\nA feature documentary showing the adventure\, peril\, teamwork and serenity of a mountaineering group's attempt to summit the world's most challenging peak.\n\n\n\nShot in Pakistan in the summer of 2009\, the documentary follows world-class alpinists Fabrizio Zangrilli and Gerlinde Kaltenbrunner with veteran climbers Jake Meyer and Chris Szymiec in a breathtaking glimpse into the world of high altitude mountaineering.\n\n\n\nDirector Dave Ohlson joins this group's attempt to summit K2 on the 100-year anniversary of the Duke of Abruzzi's landmark K2 expedition in 1909. The documentary examines the history and geography of the Karakoram mountains while contemplating the risks\, rewards and personal nature of exploration in an age when there are few blank spots left on the map.\n\n\n\nLearn more at: http://k2siren.com/ \n\n\n\nfree & open to the public!
X-ALT-DESC;FMTTYPE=text/html:<span style="caret-color: rgb(29\, 33\, 41)\; color: rgb(29\, 33\, 41)\; font-family: system-ui\, -apple-system\, BlinkMacSystemFont\, &quot\;.SFNSText-Regular&quot\;\, sans-serif\; font-size: 14px\; background-color: rgb(255\, 255\, 255)\;">The LOGE Winter Movie Series is in full swing! We&#39\;ll be showing movies through fall and winter on our outdoor screens (weather permitting) or in our cafe/lobby at Bend &amp\; Westport when weather is not ideal.</span><br style="caret-color: rgb(29\, 33\, 41)\; color: rgb(29\, 33\, 41)\; font-family: system-ui\, -apple-system\, BlinkMacSystemFont\, &quot\;.SFNSText-Regular&quot\;\, sans-serif\; font-size: 14px\;" />\n<br style="caret-color: rgb(29\, 33\, 41)\; color: rgb(29\, 33\, 41)\; font-family: system-ui\, -apple-system\, BlinkMacSystemFont\, &quot\;.SFNSText-Regular&quot\;\, sans-serif\; font-size: 14px\;" />\n<span style="caret-color: rgb(29\, 33\, 41)\; color: rgb(29\, 33\, 41)\; font-family: system-ui\, -apple-system\, BlinkMacSystemFont\, &quot\;.SFNSText-Regular&quot\;\, sans-serif\; font-size: 14px\; background-color: rgb(255\, 255\, 255)\;">K2: Siren of the Himalayas&nbsp\;</span><br style="caret-color: rgb(29\, 33\, 41)\; color: rgb(29\, 33\, 41)\; font-family: system-ui\, -apple-system\, BlinkMacSystemFont\, &quot\;.SFNSText-Regular&quot\;\, sans-serif\; font-size: 14px\;" />\n<span style="caret-color: rgb(29\, 33\, 41)\; color: rgb(29\, 33\, 41)\; font-family: system-ui\, -apple-system\, BlinkMacSystemFont\, &quot\;.SFNSText-Regular&quot\;\, sans-serif\; font-size: 14px\; background-color: rgb(255\, 255\, 255)\;">A feature documentary showing the adventure\, peril\, teamwork and serenity of a mountaineering group&rsquo\;s attempt to summit the world&rsquo\;s most challenging peak.</span><br style="caret-color: rgb(29\, 33\, 41)\; color: rgb(29\, 33\, 41)\; font-family: system-ui\, -apple-system\, BlinkMacSystemFont\, &quot\;.SFNSText-Regular&quot\;\, sans-serif\; font-size: 14px\;" />\n<br style="caret-color: rgb(29\, 33\, 41)\; color: rgb(29\, 33\, 41)\; font-family: system-ui\, -apple-system\, BlinkMacSystemFont\, &quot\;.SFNSText-Regular&quot\;\, sans-serif\; font-size: 14px\;" />\n<span style="caret-color: rgb(29\, 33\, 41)\; color: rgb(29\, 33\, 41)\; font-family: system-ui\, -apple-system\, BlinkMacSystemFont\, &quot\;.SFNSText-Regular&quot\;\, sans-serif\; font-size: 14px\; background-color: rgb(255\, 255\, 255)\;">Shot in Pakistan in the summer of 2009\, the documentary follows world-class alpinists Fabrizio Zangrilli and Gerlinde Kaltenbrunner with veteran climbers Jake Meyer and Chris Szymiec in a breathtaking glimpse into the world of high altitude mountaineering.</span><br style="caret-color: rgb(29\, 33\, 41)\; color: rgb(29\, 33\, 41)\; font-family: system-ui\, -apple-system\, BlinkMacSystemFont\, &quot\;.SFNSText-Regular&quot\;\, sans-serif\; font-size: 14px\;" />\n<br style="caret-color: rgb(29\, 33\, 41)\; color: rgb(29\, 33\, 41)\; font-family: system-ui\, -apple-system\, BlinkMacSystemFont\, &quot\;.SFNSText-Regular&quot\;\, sans-serif\; font-size: 14px\;" />\n<span style="caret-color: rgb(29\, 33\, 41)\; color: rgb(29\, 33\, 41)\; font-family: system-ui\, -apple-system\, BlinkMacSystemFont\, &quot\;.SFNSText-Regular&quot\;\, sans-serif\; font-size: 14px\; background-color: rgb(255\, 255\, 255)\;">Director Dave Ohlson joins this group&rsquo\;s attempt to summit K2 on the 100-year anniversary of the Duke of Abruzzi&rsquo\;s landmark K2 expedition in 1909. The documentary examines the history and geography of the Karakoram mountains while contemplating the risks\, rewards and personal nature of exploration in an age when there are few blank spots left on the map.</span><br style="caret-color: rgb(29\, 33\, 41)\; color: rgb(29\, 33\, 41)\; font-family: system-ui\, -apple-system\, BlinkMacSystemFont\, &quot\;.SFNSText-Regular&quot\;\, sans-serif\; font-size: 14px\;" />\n<br style="caret-color: rgb(29\, 33\, 41)\; color: rgb(29\, 33\, 41)\; font-family: system-ui\, -apple-system\, BlinkMacSystemFont\, &quot\;.SFNSText-Regular&quot\;\, sans-serif\; font-size: 14px\;" />\n<span style="caret-color: rgb(29\, 33\, 41)\; color: rgb(29\, 33\, 41)\; font-family: system-ui\, -apple-system\, BlinkMacSystemFont\, &quot\;.SFNSText-Regular&quot\;\, sans-serif\; font-size: 14px\; background-color: rgb(255\, 255\, 255)\;">Learn more at:&nbsp\;</span><a data-lynx-mode="hover" data-lynx-uri="https://l.facebook.com/l.php?u=http%3A%2F%2Fk2siren.com%2F%3Ffbclid%3DIwAR2SRT_9qGDR2ck1xlsvBDbYLtfQN0SYKRxCd6mEnyYqtT6FtcqCLkrlq7k&amp\;h=AT1m_Qf1-JkWKuahVtTXcH4urRWS9frbFbRYKZQA_c_dcf6UjXiBgILjNjfd4f7vzsCZdFWg9XjczptWF33cWehLo0pWLQJaZwRUIs2FEHYhD8xQX4ziYTS61biaAxNusvdBnkhvmA" href="http://k2siren.com/?fbclid=IwAR2SRT_9qGDR2ck1xlsvBDbYLtfQN0SYKRxCd6mEnyYqtT6FtcqCLkrlq7k" rel="nofollow noopener" style="color: rgb(54\, 88\, 153)\; cursor: pointer\; text-decoration: none\; font-family: system-ui\, -apple-system\, BlinkMacSystemFont\, &quot\;.SFNSText-Regular&quot\;\, sans-serif\; font-size: 14px\;" target="_blank">http://k2siren.com/</a><span style="caret-color: rgb(29\, 33\, 41)\; color: rgb(29\, 33\, 41)\; font-family: system-ui\, -apple-system\, BlinkMacSystemFont\, &quot\;.SFNSText-Regular&quot\;\, sans-serif\; font-size: 14px\; background-color: rgb(255\, 255\, 255)\;">&nbsp\;</span><br style="caret-color: rgb(29\, 33\, 41)\; color: rgb(29\, 33\, 41)\; font-family: system-ui\, -apple-system\, BlinkMacSystemFont\, &quot\;.SFNSText-Regular&quot\;\, sans-serif\; font-size: 14px\;" />\n<br style="caret-color: rgb(29\, 33\, 41)\; color: rgb(29\, 33\, 41)\; font-family: system-ui\, -apple-system\, BlinkMacSystemFont\, &quot\;.SFNSText-Regular&quot\;\, sans-serif\; font-size: 14px\;" />\n<span style="caret-color: rgb(29\, 33\, 41)\; color: rgb(29\, 33\, 41)\; font-family: system-ui\, -apple-system\, BlinkMacSystemFont\, &quot\;.SFNSText-Regular&quot\;\, sans-serif\; font-size: 14px\; background-color: rgb(255\, 255\, 255)\;">free &amp\; open to the public!</span>
LOCATION:LOGE at The Sands Westport\, WA
UID:e.26.11376
SEQUENCE:3
DTSTAMP:20260424T211145Z
URL:https://chamber.graysharbor.org/events/details/friday-movie-k2-siren-of-the-himalayas-11376
END:VEVENT

END:VCALENDAR
