BEGIN:VCALENDAR
VERSION:2.0
PRODID:-//ChamberMaster//Event Calendar 2.0//EN
METHOD:PUBLISH
X-PUBLISHED-TTL:P3D
REFRESH-INTERVAL:P3D
CALSCALE:GREGORIAN
BEGIN:VEVENT
DTSTART:20190831T030000Z
DTEND:20190831T050000Z
X-MICROSOFT-CDO-ALLDAYEVENT:FALSE
SUMMARY:Friday Night Bonfire at Oyhut Bay
DESCRIPTION:Come enjoy the warmth of a bonfire and S'mores at Oyhut Bay! Spend quality time with your friends and family to kick off a weekend get-a-way.
X-ALT-DESC;FMTTYPE=text/html:<span style="font-family:arial\;"><span style="caret-color: rgb(29\, 33\, 41)\; color: rgb(29\, 33\, 41)\; font-size: 14px\; white-space: pre-wrap\;">Come enjoy the warmth of a bonfire and S&#39\;mores at Oyhut Bay! Spend quality time with your friends and family to kick off a weekend get-a-way.</span></span>
LOCATION:pin Oyhut Bay Vacation Rentals 300 Lodge Ave SW\, Ocean Shores\, Washington 98569
UID:e.26.12179
SEQUENCE:3
DTSTAMP:20260424T090340Z
URL:https://chamber.graysharbor.org/events/details/friday-night-bonfire-at-oyhut-bay-12179
END:VEVENT

END:VCALENDAR
