BEGIN:VCALENDAR
VERSION:2.0
PRODID:-//ChamberMaster//Event Calendar 2.0//EN
METHOD:PUBLISH
X-PUBLISHED-TTL:P3D
REFRESH-INTERVAL:P3D
CALSCALE:GREGORIAN
BEGIN:VEVENT
DTSTART:20190315T230000Z
DTEND:20190316T000000Z
X-MICROSOFT-CDO-ALLDAYEVENT:FALSE
SUMMARY:Friends Landing Ribbon Cutting
DESCRIPTION:Come on out to Friends Landing for a Ribbon Cutting on Friday\, March 15th at 4pm!\n\nThis will be for the new playground and to kick off the 2019 camping season out at Friends Landing. Refreshments will be provided at this family-friendly event. \n\nRSVP's are greatly appreciated: (360) 482-1581 or jmesser@portgrays.org
X-ALT-DESC;FMTTYPE=text/html:<span style="caret-color: rgb(29\, 33\, 41)\; color: rgb(29\, 33\, 41)\; font-family: system-ui\, -apple-system\, BlinkMacSystemFont\, &quot\;.SFNSText-Regular&quot\;\, sans-serif\; font-size: 14px\; white-space: pre-wrap\;">Come on out to Friends Landing for a Ribbon Cutting on Friday\, March 15th at 4pm!</span><br style="caret-color: rgb(29\, 33\, 41)\; color: rgb(29\, 33\, 41)\; font-family: system-ui\, -apple-system\, BlinkMacSystemFont\, &quot\;.SFNSText-Regular&quot\;\, sans-serif\; font-size: 14px\; white-space: pre-wrap\;" />\n<span style="caret-color: rgb(29\, 33\, 41)\; color: rgb(29\, 33\, 41)\; font-family: system-ui\, -apple-system\, BlinkMacSystemFont\, &quot\;.SFNSText-Regular&quot\;\, sans-serif\; font-size: 14px\; white-space: pre-wrap\;">This will be for the new playground and to kick off the 2019 camping season out at Friends Landing. Refreshments will be provided at this family-friendly event. </span><br style="caret-color: rgb(29\, 33\, 41)\; color: rgb(29\, 33\, 41)\; font-family: system-ui\, -apple-system\, BlinkMacSystemFont\, &quot\;.SFNSText-Regular&quot\;\, sans-serif\; font-size: 14px\; white-space: pre-wrap\;" />\n<span style="caret-color: rgb(29\, 33\, 41)\; color: rgb(29\, 33\, 41)\; font-family: system-ui\, -apple-system\, BlinkMacSystemFont\, &quot\;.SFNSText-Regular&quot\;\, sans-serif\; font-size: 14px\; white-space: pre-wrap\;">RSVP&#39\;s are greatly appreciated: (360) 482-1581 or jmesser@portgrays.org</span>
LOCATION:Friends Landing 300 Katon Rd. Montesano\, WA
UID:e.26.11820
SEQUENCE:3
DTSTAMP:20260424T163639Z
URL:https://chamber.graysharbor.org/events/details/friends-landing-ribbon-cutting-11820
END:VEVENT

END:VCALENDAR
